BEGIN:VCALENDAR
VERSION:2.0
PRODID:-//ChamberMaster//Event Calendar 2.0//EN
METHOD:PUBLISH
X-PUBLISHED-TTL:P3D
REFRESH-INTERVAL:P3D
CALSCALE:GREGORIAN
BEGIN:VEVENT
DTSTART:20190911T183000Z
DTEND:20190911T203000Z
X-MICROSOFT-CDO-ALLDAYEVENT:FALSE
SUMMARY:Charcoal Still Life
DESCRIPTION:Introduction to drawing with charcoal with instruction from Liz Cutler.
X-ALT-DESC;FMTTYPE=text/html:Introduction to drawing with charcoal with instruction from Liz Cutler.
LOCATION:ArtWaves\, 1345-A State Highway 102\, Bar Harbor.
UID:e.3061.14729
SEQUENCE:3
DTSTAMP:20260419T211017Z
URL:https://www.visitbarharbor.com/events/details/charcoal-still-life-14729
END:VEVENT

END:VCALENDAR
