BEGIN:VCALENDAR
VERSION:2.0
PRODID:-//ChamberMaster//Event Calendar 2.0//EN
METHOD:PUBLISH
X-PUBLISHED-TTL:P3D
REFRESH-INTERVAL:P3D
CALSCALE:GREGORIAN
BEGIN:VEVENT
DTSTART:20190427T140000Z
DTEND:20190427T170000Z
X-MICROSOFT-CDO-ALLDAYEVENT:FALSE
SUMMARY:Census 2020 Drop-in Event
DESCRIPTION:Census 2020 is looking for census workers in Maine. These jobs are flexible\, last anywhere from six to ten weeks\, and pay $16 per hour as well as .58 cents per mile reimbursement. If you want to find out more about working for the Census Bureau\, including how to apply for one of these jobs\, stop by the Jesup Memorial Library on Saturday\, April 27 from 10 a.m. to 1 p.m. Linda White from the Census will be on hand to answer any questions you have. She can also help you navigate the website to apply. \n\n \n\nTo find out more about Census 2020 visit 2020census.gov. You can also apply online for a position at 2020census.gov/jobs. For more information about this event\, contact the Jesup at 207-288-4245.
X-ALT-DESC;FMTTYPE=text/html:<span style="font-family:times new roman\,serif"><span style="font-size:14.0pt">Census 2020 is looking for census workers in Maine. These jobs are flexible\, last anywhere from six to ten weeks\, and pay $16 per hour as well as .58 cents per mile reimbursement. If you want to find out more about working for the Census Bureau\, including how to apply for one of these jobs\, stop by the Jesup Memorial Library on Saturday\, April 27 from 10 a.m. to 1 p.m. Linda White from the Census will be on hand to answer any questions you have. She can also help you navigate the website to apply. </span></span><br />\n&nbsp\;<br />\n<span style="font-family:times new roman\,serif"><span style="font-size:14.0pt">To find out more about Census 2020 visit 2020census.gov. You can also apply online for a position at 2020census.gov/jobs. For more information about this event\, contact the Jesup at 207-288-4245. </span></span>
LOCATION:Jesup Memorial Library\, 34 Mt. Desert St.\, Bar Harbor
UID:e.3061.8863
SEQUENCE:3
DTSTAMP:20260420T042814Z
URL:https://www.visitbarharbor.com/events/details/census-2020-drop-in-event-8863
END:VEVENT

END:VCALENDAR
