BEGIN:VCALENDAR
VERSION:2.0
PRODID:-//ChamberMaster//Event Calendar 2.0//EN
METHOD:PUBLISH
X-PUBLISHED-TTL:P3D
REFRESH-INTERVAL:P3D
CALSCALE:GREGORIAN
BEGIN:VEVENT
DTSTART:20180907T231500Z
DTEND:20180908T010000Z
X-MICROSOFT-CDO-ALLDAYEVENT:FALSE
SUMMARY:Celestial Cinema
DESCRIPTION:Acadia Night Sky Festival Movie under the Stars!\n\n\n\nArthur Dent (Martin Freeman) is trying to prevent his house from being bulldozed when his friend Ford Prefect (Mos Def) whisks him into outer space. It turns out Ford is an alien who has just saved Arthur from Earth's total annihilation. Ford introduces Arthur to his myriad friends\, including many-headed President Zaphod Beeblebrox (Sam Rockwell) and sexy refugee Trillian (Zooey Deschanel). Arthur makes his way across the stars while seeking the meaning of life\, or something close to it.
X-ALT-DESC;FMTTYPE=text/html:Acadia Night Sky Festival Movie under the Stars!<br />\n<br />\nArthur Dent (Martin Freeman) is trying to prevent his house from being bulldozed when his friend Ford Prefect (Mos Def) whisks him into outer space. It turns out Ford is an alien who has just saved Arthur from Earth&#39\;s total annihilation. Ford introduces Arthur to his myriad friends\, including many-headed President Zaphod Beeblebrox (Sam Rockwell) and sexy refugee Trillian (Zooey Deschanel). Arthur makes his way across the stars while seeking the meaning of life\, or something close to it.<br />\n&nbsp\;
LOCATION:Agamont Park overlooking Frenchman's Bay. Agamont Park is located on the corner of West and Main Streets in Bar Harbor.
UID:e.3061.861
SEQUENCE:3
DTSTAMP:20260420T145736Z
URL:https://www.visitbarharbor.com/events/details/celestial-cinema-861
END:VEVENT

END:VCALENDAR
