BEGIN:VCALENDAR
VERSION:2.0
PRODID:-//ChamberMaster//Event Calendar 2.0//EN
METHOD:PUBLISH
X-PUBLISHED-TTL:P3D
REFRESH-INTERVAL:P3D
CALSCALE:GREGORIAN
BEGIN:VEVENT
DTSTART:20180925T130000Z
DTEND:20180926T000000Z
X-MICROSOFT-CDO-ALLDAYEVENT:FALSE
SUMMARY:Celebrate Voter Registration Day with the YWCA
DESCRIPTION:BAR HARBOR -- Tuesday\, September 25th\, join us at YWCA MDI for an all-day celebration of National Voter Registration Day. On-site voter registration is from 9:00 am - 5:00 pm. An All-American Cookout will take place from 4:00 - 6:00 pm\, and there will be a showing of the film "Swing Vote" (2008) starring Kevin Kostner from 6:00 - 8:00 pm. Free admission and open to the public. Info 288-5008.
X-ALT-DESC;FMTTYPE=text/html:BAR HARBOR -- Tuesday\, September 25th\, join us at YWCA MDI for an all-day celebration of National Voter Registration Day. On-site voter registration is from 9:00 am - 5:00 pm. An All-American Cookout will take place from 4:00 - 6:00 pm\, and there will be a showing of the film &quot\;Swing Vote&quot\; (2008) starring Kevin Kostner from 6:00 - 8:00 pm. Free admission and open to the public. Info 288-5008.
LOCATION:YWCA Mount Desert Island 36 Mount Desert Street Bar Harbor ME 04609
UID:e.3061.3856
SEQUENCE:3
DTSTAMP:20260420T151329Z
URL:https://www.visitbarharbor.com/events/details/celebrate-voter-registration-day-with-the-ywca-3856
END:VEVENT

END:VCALENDAR
