BEGIN:VCALENDAR
VERSION:2.0
PRODID:-//ChamberMaster//Event Calendar 2.0//EN
METHOD:PUBLISH
X-PUBLISHED-TTL:P3D
REFRESH-INTERVAL:P3D
CALSCALE:GREGORIAN
BEGIN:VEVENT
DTSTART:20190915T011500Z
DTEND:20190915T031500Z
X-MICROSOFT-CDO-ALLDAYEVENT:FALSE
SUMMARY:CD Release Party: Timbered Lake on Tap at Lompoc Lompoc Café
DESCRIPTION:Lompoc Caf \, located at 36 Rodick Street in Bar Harbor\, will host a "CD release party" for Timbered Lake's double album titled World Undivided. Timbered Lake's full moon performance will be on Saturday\, September 14th starting at 9:15 PM. Timbered Lake has been featured throughout New England at Native American venues\, environmental stewardship events\, healing festivals\, writer's forums\, and on radio. Diana and Crow were recently interviewed on WGDR FM in Plainfield\, Vermont and their new album World Undivided was the 15th most played recording on WERU-FM 89.9 during late August. During the past few years\, Timbered Lake and poet Paul Weiss have collaborated to produce a series of concerts honoring Winter Solstice\, the earth\, and the legacy of Leonard Cohen. As part of their commitment to support grassroots concerns\, Diana and Crow have donated 167 performances to help support the community work of The Common Good Caf  on Mount Desert Island.
X-ALT-DESC;FMTTYPE=text/html:Lompoc Caf&eacute\;\, located at 36 Rodick Street in Bar Harbor\, will host a &ldquo\;CD release party&rdquo\; for Timbered Lake&rsquo\;s double album titled World Undivided. Timbered Lake&rsquo\;s full moon performance will be on Saturday\, September 14th starting at 9:15 PM. Timbered Lake has been featured throughout New England at Native American venues\, environmental stewardship events\, healing festivals\, writer&rsquo\;s forums\, and on radio. Diana and Crow were recently interviewed on WGDR FM in Plainfield\, Vermont and their new album World Undivided was the 15th most played recording on WERU-FM 89.9 during late August. During the past few years\, Timbered Lake and poet Paul Weiss have collaborated to produce a series of concerts honoring Winter Solstice\, the earth\, and the legacy of Leonard Cohen. As part of their commitment to support grassroots concerns\, Diana and Crow have donated 167 performances to help support the community work of The Common Good Caf&eacute\; on Mount Desert Island.
LOCATION:Lompoc Cafe\, 36 Rodick Street\, Bar Harbor
UID:e.3061.14669
SEQUENCE:3
DTSTAMP:20260419T173727Z
URL:https://www.visitbarharbor.com/events/details/cd-release-party-timbered-lake-on-tap-at-lompoc-lompoc-caf&#233;-14669
END:VEVENT

END:VCALENDAR
