BEGIN:VCALENDAR
VERSION:2.0
PRODID:-//ChamberMaster//Event Calendar 2.0//EN
METHOD:PUBLISH
X-PUBLISHED-TTL:P3D
REFRESH-INTERVAL:P3D
CALSCALE:GREGORIAN
BEGIN:VEVENT
DTSTART:20190608T130000Z
DTEND:20190608T160000Z
X-MICROSOFT-CDO-ALLDAYEVENT:FALSE
SUMMARY:Cars & Coffee: Steamers
DESCRIPTION:An opportunity for drivers to show off their own special cars\, and for all auto enthusiasts to congregate to kick tires\, peer under hoods\, and enjoy coffee with their fellow car-lovers. All are welcome\, with or without their own antique or vintage automobile. The June Cars & Coffee will feature steam cars of all shapes\, sizes\, makes\, and models.
X-ALT-DESC;FMTTYPE=text/html:<span style="color:rgb(102\, 102\, 102)\; font-family:open sans\,arial\,sans-serif\; font-size:18px">An opportunity for drivers to show off their own special cars\, and for all auto enthusiasts to congregate to kick tires\, peer under hoods\, and enjoy coffee with their fellow car-lovers. All are welcome\, with or without their own antique or vintage automobile. The June Cars &amp\; Coffee will feature steam cars of all shapes\, sizes\, makes\, and models.</span>
LOCATION:Seal Cove Auto Museum 1414 Tremont Road Seal Cove\, ME 04674
UID:e.3061.10625
SEQUENCE:3
DTSTAMP:20260420T004750Z
URL:https://www.visitbarharbor.com/events/details/cars-coffee-steamers-10625
END:VEVENT

END:VCALENDAR
