BEGIN:VCALENDAR
VERSION:2.0
PRODID:-//ChamberMaster//Event Calendar 2.0//EN
METHOD:PUBLISH
X-PUBLISHED-TTL:P3D
REFRESH-INTERVAL:P3D
CALSCALE:GREGORIAN
BEGIN:VEVENT
DTSTART:20181013T130000Z
DTEND:20181013T160000Z
X-MICROSOFT-CDO-ALLDAYEVENT:FALSE
SUMMARY:Cars & Coffee: Early Fords
DESCRIPTION:An opportunity for drivers to show off their own special cars\, and for all auto enthusiasts to congregate to kick tires\, peer under hoods\, and enjoy coffee with their fellow car-lovers. All are welcome\, with or without their own antique or vintage automobile. The October Cars & Coffee will feature Ford's early As\, Ts\, and the other Ford "Alphabet Cars."
X-ALT-DESC;FMTTYPE=text/html:<span style="background-color:transparent\; color:rgb(102\, 102\, 102)\; font-family:open sans\,arial\,sans-serif\; font-size:18px">An opportunity for drivers to show off their own special cars\, and for all auto enthusiasts to congregate to kick tires\, peer under hoods\, and enjoy coffee with their fellow car-lovers. All are welcome\, with or without their own antique or vintage automobile. The October Cars &amp\; Coffee will feature Ford&rsquo\;s early As\, Ts\, and the other Ford &ldquo\;Alphabet Cars.&rdquo\;</span>
LOCATION:Seal Cove Auto Museum
UID:e.3061.3949
SEQUENCE:3
DTSTAMP:20260420T132334Z
URL:https://www.visitbarharbor.com/events/details/cars-coffee-early-fords-3949
END:VEVENT

END:VCALENDAR
