BEGIN:VCALENDAR
VERSION:2.0
PRODID:-//ChamberMaster//Event Calendar 2.0//EN
METHOD:PUBLISH
X-PUBLISHED-TTL:P3D
REFRESH-INTERVAL:P3D
CALSCALE:GREGORIAN
BEGIN:VEVENT
DTSTART:20180721T130000Z
DTEND:20180721T160000Z
X-MICROSOFT-CDO-ALLDAYEVENT:FALSE
SUMMARY:Cars & Coffee: Corvettes
DESCRIPTION:An opportunity for drivers to show off their own special cars\, and for all auto enthusiasts to congregate to kick tires\, peer under hoods\, and enjoy coffee with their fellow car-lovers. All are welcome\, with or without their own antique or vintage automobile.\n\nThe July Cars & Coffee will feature Corvettes! You are encouraged to bring an early Corvette of your own in the morning\, or any other antique or classic car if you don't have a Corvette but would like to drive over your favorite old car. The Cars & Coffee in the morning will be followed by kids' activities in the afternoon\, including rides in the museum's cars\, weather permitting.
X-ALT-DESC;FMTTYPE=text/html:<p>An opportunity for drivers to show off their own special cars\, and for all auto enthusiasts to congregate to kick tires\, peer under hoods\, and enjoy coffee with their fellow car-lovers. All are welcome\, with or without their own antique or vintage automobile.</p>\n\n<p>The July Cars &amp\; Coffee will feature Corvettes! You are encouraged to bring an early Corvette of your own in the morning\, or any other antique or classic car if you don&rsquo\;t have a Corvette but would like to drive over your favorite old car. The Cars &amp\; Coffee in the morning will be followed by kids&rsquo\; activities in the afternoon\, including rides in the museum&rsquo\;s cars\, weather permitting.</p>\n
LOCATION:Seal Cove Auto Museum
UID:e.3061.3022
SEQUENCE:3
DTSTAMP:20260420T195820Z
URL:https://www.visitbarharbor.com/events/details/cars-coffee-corvettes-3022
END:VEVENT

END:VCALENDAR
