BEGIN:VCALENDAR
VERSION:2.0
PRODID:-//ChamberMaster//Event Calendar 2.0//EN
METHOD:PUBLISH
X-PUBLISHED-TTL:P3D
REFRESH-INTERVAL:P3D
CALSCALE:GREGORIAN
BEGIN:VEVENT
DTSTART:20180811T130000Z
DTEND:20180811T160000Z
X-MICROSOFT-CDO-ALLDAYEVENT:FALSE
SUMMARY:Cars & Coffee: British Cars
DESCRIPTION:The auto museum is proud to have five London-to-Brighton automobiles in its collection and this August's Cars & Coffee will feature British cars and a London to Brighton Vintage Car Rally program! This is a wonderful opportunity for drivers to show off their own special cars\, and for all auto enthusiasts to congregate to kick tires\, peer under hoods\, and enjoy coffee with their fellow car-lovers. All are welcome\, with or without their own antique or vintage automobile.
X-ALT-DESC;FMTTYPE=text/html:<span style="color:rgb(102\, 102\, 102)\; font-family:arial\; font-size:13.5pt">The auto museum is proud to have five London-to-Brighton automobiles in its collection and this August&rsquo\;s Cars &amp\; Coffee will feature British cars and a London to Brighton Vintage Car Rally program! This is a wonderful opportunity for drivers to show off their own special cars\, and for all auto enthusiasts to congregate to kick tires\, peer under hoods\, and enjoy coffee with their fellow car-lovers. All are welcome\, with or without their own antique or vintage automobile.</span>
LOCATION:Seal Cove Auto Museum 1414 Tremont Road Seal Cove\, ME
UID:e.3061.3433
SEQUENCE:3
DTSTAMP:20260420T170309Z
URL:https://www.visitbarharbor.com/events/details/cars-coffee-british-cars-3433
END:VEVENT

END:VCALENDAR
