BEGIN:VCALENDAR
VERSION:2.0
PRODID:-//ChamberMaster//Event Calendar 2.0//EN
METHOD:PUBLISH
X-PUBLISHED-TTL:P3D
REFRESH-INTERVAL:P3D
CALSCALE:GREGORIAN
BEGIN:VEVENT
DTSTART:20180915T130000Z
DTEND:20180915T160000Z
X-MICROSOFT-CDO-ALLDAYEVENT:FALSE
SUMMARY:Cars & Canines & Kitties
DESCRIPTION:An opportunity for drivers to show off their own special cars\, and for all auto enthusiasts to congregate to kick tires\, peer under hoods\, and enjoy coffee with their fellow car-lovers. All are welcome\, with or without their own antique or vintage automobile. Or\, bring your favorite four-footed friends\, as the September Cars & Coffee will feature canines and cats\, in partnership with the Hancock County SPCA.
X-ALT-DESC;FMTTYPE=text/html:<p style="margin-left:0px\; margin-right:0px\; text-align:left">An opportunity for drivers to show off their own special cars\, and for all auto enthusiasts to congregate to kick tires\, peer under hoods\, and enjoy coffee with their fellow car-lovers. All are welcome\, with or without their own antique or vintage automobile. Or\, bring your favorite four-footed friends\, as the September Cars &amp\; Coffee will feature canines and cats\, in partnership with the Hancock County SPCA.</p>\n
LOCATION:Seal Cove Auto Museum 1414 Tremont Road Seal Cove\, ME 04674
UID:e.3061.3739
SEQUENCE:3
DTSTAMP:20260420T150306Z
URL:https://www.visitbarharbor.com/events/details/cars-canines-kitties-3739
END:VEVENT

END:VCALENDAR
