BEGIN:VCALENDAR
VERSION:2.0
PRODID:-//ChamberMaster//Event Calendar 2.0//EN
METHOD:PUBLISH
X-PUBLISHED-TTL:P3D
REFRESH-INTERVAL:P3D
CALSCALE:GREGORIAN
BEGIN:VEVENT
DTSTART:20180704T140000Z
DTEND:20180704T180000Z
X-MICROSOFT-CDO-ALLDAYEVENT:FALSE
SUMMARY:Carol Dyer Memorial Luminaria bags available in advance
DESCRIPTION:Bags for the 17th Annual Carol Dyer Memorial Luminaria Evening can be purchased in advance for a suggested donation of $10 each at the July 4th Bar Harbor Rotary Seafood Festival. The Luminaria Evening for honoring friends and loved ones will take place on the Bar Harbor Village Green on Saturday\, August 4\, from 7 - 9:30 pm. Proceeds from the event will benefit Home Cooked Healing\, a local group of volunteers who provide nutritious home-cooked meals for people who have cancer.
X-ALT-DESC;FMTTYPE=text/html:Bags for the 17th Annual Carol Dyer Memorial Luminaria Evening can be purchased in advance for a suggested donation of $10 each at the July 4th Bar Harbor Rotary Seafood Festival. The Luminaria Evening for honoring friends and loved ones will take place on the Bar Harbor Village Green on Saturday\, August 4\, from 7 - 9:30 pm. Proceeds from the event will benefit Home Cooked Healing\, a local group of volunteers who provide nutritious home-cooked meals for people who have cancer.
LOCATION:Bar Harbor Athletic Field
UID:e.3061.2941
SEQUENCE:3
DTSTAMP:20260420T183138Z
URL:https://www.visitbarharbor.com/events/details/carol-dyer-memorial-luminaria-bags-available-in-advance-2941
END:VEVENT

END:VCALENDAR
