BEGIN:VCALENDAR
VERSION:2.0
PRODID:-//ChamberMaster//Event Calendar 2.0//EN
METHOD:PUBLISH
X-PUBLISHED-TTL:P3D
REFRESH-INTERVAL:P3D
CALSCALE:GREGORIAN
BEGIN:VEVENT
DTSTART:20180807T140000Z
DTEND:20180807T200000Z
X-MICROSOFT-CDO-ALLDAYEVENT:FALSE
SUMMARY:Building the Abstracted Landscape: a Painting class with Linda Packard
DESCRIPTION:This workshop is for painters with some experience and with interest in loosening up and moving away from recording detail. Through demonstration and individual guidance\, emphasis will be on simplifying the landscape to its essence\, dancing on the edge of abstraction. A variety of paint-handling techniques and tools that encourage simplification will be demonstrated. We will work from sketches made en plein air or made from photos. Come prepared to stretch yourself beyond your comfort zone and let go of perfection.\n\nNote: Linda Packard's expertise is in oil. The demo and its techniques and tools will be in oil and may not yield the same results in acrylic.  Solvents will be used. $100 for members/$110 for non-members. A list of supplies to bring will be emailed to registered participants. Space is limited and pre-registration is required.
X-ALT-DESC;FMTTYPE=text/html:<div>\n<p>This workshop is for painters with some experience and with interest in loosening up and moving away from recording detail. Through demonstration and individual guidance\, emphasis will be on simplifying the landscape to its essence\, dancing on the edge of abstraction. A variety of paint-handling techniques and tools that encourage simplification will be demonstrated. We will work from sketches made en plein air or made from photos. Come prepared to stretch yourself beyond your comfort zone and let go of perfection.</p>\n\n<p>Note: <a href="http://lindapackard.com/">Linda Packard</a>&lsquo\;s expertise is in oil. The demo and its techniques and tools will be in oil and may not yield the same results in acrylic. &nbsp\;Solvents will be used. $100 for members/$110 for non-members. A list of supplies to bring will be emailed to registered participants. <strong>Space is limited and <a href="https://woodlawnmuseum.com/event/building-abstracted-landscape-painting-class-linda-packard/">pre-registration is required.</a></strong></p>\n</div>\n
LOCATION:Woodlawn Museum\, 19 Black House Drive\, Ellsworth\, ME 04605.
UID:e.3061.2506
SEQUENCE:3
DTSTAMP:20260420T170340Z
URL:https://www.visitbarharbor.com/events/details/building-the-abstracted-landscape-a-painting-class-with-linda-packard-2506
END:VEVENT

END:VCALENDAR
