BEGIN:VCALENDAR
VERSION:2.0
PRODID:-//ChamberMaster//Event Calendar 2.0//EN
METHOD:PUBLISH
X-PUBLISHED-TTL:P3D
REFRESH-INTERVAL:P3D
CALSCALE:GREGORIAN
BEGIN:VEVENT
DTSTART:20190524T201000Z
DTEND:20190524T213000Z
X-MICROSOFT-CDO-ALLDAYEVENT:FALSE
SUMMARY:Building Resilience to Sea Level Rise and Ocean Acidification in Maine’s Coastal and Island Communities
DESCRIPTION:Marine scientist Dr. Susie Arnold of The Island Institute joins the College of the Atlantic Seminar on Climate Change 2019 Speaker Series to discuss how Maine coastal communities are responding to the effects on climate change.
X-ALT-DESC;FMTTYPE=text/html:Marine scientist Dr. Susie Arnold of The Island Institute joins the College of the Atlantic Seminar on Climate Change 2019 Speaker Series to discuss how Maine coastal communities are responding to the effects on climate change.
LOCATION:College of the Atlantic - McCormick Lecture Hall
UID:e.3061.9023
SEQUENCE:3
DTSTAMP:20260420T010225Z
URL:https://www.visitbarharbor.com/events/details/building-resilience-to-sea-level-rise-and-ocean-acidification-in-maine-s-coastal-and-island-communities-9023
END:VEVENT

END:VCALENDAR
