BEGIN:VCALENDAR
VERSION:2.0
PRODID:-//ChamberMaster//Event Calendar 2.0//EN
METHOD:PUBLISH
X-PUBLISHED-TTL:P3D
REFRESH-INTERVAL:P3D
CALSCALE:GREGORIAN
BEGIN:VEVENT
DTSTART:20190210T190000Z
DTEND:20190210T230000Z
X-MICROSOFT-CDO-ALLDAYEVENT:FALSE
SUMMARY:Building a Brighter Future: Stepping up to the Climate Change Challenge
DESCRIPTION:A Climate to Thrive accomplished a LOT in 2018! Exciting new possibilities are developing. What we've been doing is getting noticed\, and we've begun to take statewide leadership. Come hear inspiring success stories and help us chart the course to keep this exciting momentum going! Keynotes by Matt Prindiville\, Executive Director\, Upstream and John Luft\, General Manager\, ReVision Energy Two-minute local success stories\; workshops on topics including Renewable Energy Future\, Next Steps with Plastics\, Parenting & Climate Change\, Moving Maine to 100% Renewable Energy\, EV's\, Solar Energy\, Heat Pumps and more\; food prepared by MDI chefs using local ingredients\; music and exhibits Snow Date: February 24
X-ALT-DESC;FMTTYPE=text/html:A Climate to Thrive accomplished a LOT in 2018! Exciting new possibilities are developing. What we&#39\;ve been doing is getting noticed\, and we&#39\;ve begun to take statewide leadership. Come hear inspiring success stories and help us chart the course to keep this exciting momentum going! Keynotes by Matt Prindiville\, Executive Director\, Upstream and John Luft\, General Manager\, ReVision Energy Two-minute local success stories\; workshops on topics including Renewable Energy Future\, Next Steps with Plastics\, Parenting &amp\; Climate Change\, Moving Maine to 100% Renewable Energy\, EV&rsquo\;s\, Solar Energy\, Heat Pumps and more\; food prepared by MDI chefs using local ingredients\; music and exhibits Snow Date: February 24
LOCATION:Mount Desert Island High School
UID:e.3061.4851
SEQUENCE:3
DTSTAMP:20260420T081736Z
URL:https://www.visitbarharbor.com/events/details/building-a-brighter-future-stepping-up-to-the-climate-change-challenge-4851
END:VEVENT

END:VCALENDAR
