BEGIN:VCALENDAR
VERSION:2.0
PRODID:-//ChamberMaster//Event Calendar 2.0//EN
METHOD:PUBLISH
X-PUBLISHED-TTL:P3D
REFRESH-INTERVAL:P3D
CALSCALE:GREGORIAN
BEGIN:VEVENT
DTSTART:20190811T000000Z
DTEND:20190811T020000Z
X-MICROSOFT-CDO-ALLDAYEVENT:FALSE
SUMMARY:Bruce in the USA
DESCRIPTION:"The most powerful and intense Springsteen tribute on the planet" ~ Legends In Concert\, LV. This high-energy musical experience is a note-perfect and visually accurate recreation of a Bruce Springsteen & The E St. Band show. Matt Ryan\, from the World Famous "Legends In Concert" cast\, began playing the Springsteen character in 2000\, in Legends "full scale" Las Vegas show. The great success in the famous Las Vegas show brought him to performances across the world\, eventually evolving his character into the Bruce In The USA show. To millions of diehard fans around the world\, it's Springsteen's marathon\, party-like performances that have elevated him to hero status. Bruce's legendary concerts (in the largest arenas) sell-out within hours of their announced sale. For those even lucky enough to get a ticket\, there was nothing that could fill the aching void in between Bruce's long-awaited tours...until now....
X-ALT-DESC;FMTTYPE=text/html:&ldquo\;The most powerful and intense Springsteen tribute on the planet&rdquo\; ~ Legends In Concert\, LV. This high-energy musical experience is a note-perfect and visually accurate recreation of a Bruce Springsteen &amp\; The E St. Band show. Matt Ryan\, from the World Famous &ldquo\;Legends In Concert&rdquo\; cast\, began playing the Springsteen character in 2000\, in Legends &ldquo\;full scale&rdquo\; Las Vegas show. The great success in the famous Las Vegas show brought him to performances across the world\, eventually evolving his character into the Bruce In The USA show. To millions of diehard fans around the world\, it&rsquo\;s Springsteen&rsquo\;s marathon\, party-like performances that have elevated him to hero status. Bruce&rsquo\;s legendary concerts (in the largest arenas) sell-out within hours of their announced sale. For those even lucky enough to get a ticket\, there was nothing that could fill the aching void in between Bruce&rsquo\;s long-awaited tours...until now....
LOCATION:1932 Criterion Theatre 35 Cottage Street Bar Harbor\, ME 04609
UID:e.3061.14238
SEQUENCE:3
DTSTAMP:20260419T192123Z
URL:https://www.visitbarharbor.com/events/details/bruce-in-the-usa-14238
END:VEVENT

END:VCALENDAR
