BEGIN:VCALENDAR
VERSION:2.0
PRODID:-//ChamberMaster//Event Calendar 2.0//EN
METHOD:PUBLISH
X-PUBLISHED-TTL:P3D
REFRESH-INTERVAL:P3D
CALSCALE:GREGORIAN
BEGIN:VEVENT
DTSTART:20190117T170000Z
DTEND:20190117T180000Z
X-MICROSOFT-CDO-ALLDAYEVENT:FALSE
SUMMARY:BROWN BAG: Ice Fishing the Downeast Region - January 17\, 2019 @ 12pm – 1pm FREE
DESCRIPTION:The talk will include recommended waters to fish for different species\, general laws\, how to use the law book\, and general fish identification. Gregory Burr\, Regional Biologist for the Maine Dept. of Inland Fisheries and Wildlife presents. Bring your lunch and join us for this free presentation on Thursday\, at noon. January 17\, 2019. At Moore Auditorium on the Schoodic Institute campus. No registration required
X-ALT-DESC;FMTTYPE=text/html:The talk will include recommended waters to fish for different species\, general laws\, how to use the law book\, and general fish identification. Gregory Burr\, Regional Biologist for the Maine Dept. of Inland Fisheries and Wildlife presents. Bring your lunch and join us for this free presentation on Thursday\, at noon. January 17\, 2019. At Moore Auditorium on the Schoodic Institute campus. No registration required
LOCATION:Moore Auditorium on the Schoodic Institute campus in Winter Harbor.
UID:e.3061.4788
SEQUENCE:3
DTSTAMP:20260420T082221Z
URL:https://www.visitbarharbor.com/events/details/brown-bag-ice-fishing-the-downeast-region-january-17-2019-12pm-1pm-free-4788
END:VEVENT

END:VCALENDAR
