BEGIN:VCALENDAR
VERSION:2.0
PRODID:-//ChamberMaster//Event Calendar 2.0//EN
METHOD:PUBLISH
X-PUBLISHED-TTL:P3D
REFRESH-INTERVAL:P3D
CALSCALE:GREGORIAN
BEGIN:VEVENT
DTSTART:20180901T153000Z
DTEND:20180901T180000Z
X-MICROSOFT-CDO-ALLDAYEVENT:FALSE
SUMMARY:Breath and Gesture
DESCRIPTION:Instructor: Dani \n\n\nThis class is open to individuals of all levels of movement training looking for a simple but thorough contemporary dance class. We will begin with a warm-up focused on anatomical structures\, touching upon various somatic practices that will inform our larger\, more coordinated movement patterning. We will work to strengthen\, stretch\, and articulate the body as we move with a sense of togetherness\, community\, and rigorous play. Learning movement phrases that shift weight and direction\, moving in and out of the floor\, sharing weight with others\, and improvising movement will be a part of this class. Come share!
X-ALT-DESC;FMTTYPE=text/html:<div>Instructor: Dani&nbsp\;</div>\n\n<div>\n<div>This class is open to individuals of all levels of movement training looking for a <span style="background-color:rgb(254\, 253\, 253)\; color:rgb(46\, 46\, 46)\; font-family:open sans\; font-size:15.4px">simple but thorough contemporary dance class. We will begin with a warm-up focused on anatomical structures\, touching upon various somatic practices that will inform our larger\, more coordinated movement patterning. We will work to strengthen\, stretch\, and articulate the body as we move with a sense of togetherness\, community\, and rigorous play. Learning movement phrases that shift weight and direction\, moving in and out of the floor\, sharing weight with others\, and improvising movement will be a part of this class. Come share!</span></div>\n</div>\n
LOCATION:ArtWaves\, 1345-A ME-102\, Bar Harbor\, ME 04609\, USA
UID:e.3061.3760
SEQUENCE:3
DTSTAMP:20260420T145913Z
URL:https://www.visitbarharbor.com/events/details/breath-and-gesture-3760
END:VEVENT

END:VCALENDAR
