BEGIN:VCALENDAR
VERSION:2.0
PRODID:-//ChamberMaster//Event Calendar 2.0//EN
METHOD:PUBLISH
X-PUBLISHED-TTL:P3D
REFRESH-INTERVAL:P3D
CALSCALE:GREGORIAN
BEGIN:VEVENT
DTSTART:20190310T000000Z
DTEND:20190310T040000Z
X-MICROSOFT-CDO-ALLDAYEVENT:FALSE
SUMMARY:Brass Club Speakeasy
DESCRIPTION:It's the most swinging party of the year! Get a wiggle on\, don your glad rags\, find yourself a floorflusher fly boy or choice bit of calico\, and get yourself down to the Brass Club to wager your mazuma\, enjoy the giggle water\, and shake those bubs. It'll be the caterpillar's kimono!\n\n\n	Swingin' Overtime will return to put on their fabulous old-time big band show\n	The gaming room will be open\, with blackjack tables and a Wheel of Chance\n	Our specialty cocktail\, beer and wine will be flowing\n\n\n and YOU will have the time of your life!\n\n7pm   8pm:  Cocktail Hour\n\n8pm   11pm:  Live Music & Dancing\n\nGaming room open all evening\n\nTickets now available!\n\nPurchase online at www.sealcoveautomuseum.org\, or call the Museum at 207-244-9242.\n\n$25 for members\, $40 for nonmembers.\n\nNonmember tickets include a 2019 membership to the Museum.\n\nAll tickets include light hors d'oeuvres and drinks.\n\nCarpooling encouraged!
X-ALT-DESC;FMTTYPE=text/html:<p>It&rsquo\;s the most swinging party of the year! Get a wiggle on\, don your glad rags\, find yourself a floorflusher fly boy or choice bit of calico\, and get yourself down to the Brass Club to wager your mazuma\, enjoy the giggle water\, and shake those bubs. It&rsquo\;ll be the caterpillar&rsquo\;s kimono!</p>\n\n<ul>\n	<li><a href="http://ellisbands.com/swingin-overtime-swing-band/" rel="noopener" style="box-sizing: border-box\; margin: 0px\; padding: 0px\; border: 0px\; outline: 0px\; background: transparent\; vertical-align: baseline\; color: rgb(205\, 92\, 92)\; text-decoration-line: none\;" target="_blank"><em>Swingin&rsquo\;&nbsp\;Overtime</em></a>&nbsp\;will return to put on their fabulous old-time big band show</li>\n	<li>The gaming room will be open\, with blackjack tables and a Wheel of Chance</li>\n	<li>Our specialty cocktail\, beer and wine will be&nbsp\;flowing</li>\n</ul>\n\n<p><strong><em>&hellip\;and YOU will have the time of your life!</em></strong></p>\n\n<p>7pm &ndash\; 8pm:&nbsp\; Cocktail Hour<br />\n8pm &ndash\; 11pm:&nbsp\; Live Music&nbsp\;&amp\; Dancing<br />\nGaming room open all evening</p>\n\n<p><strong>Tickets now available!</strong><br />\n<strong>Purchase online at www.sealcoveautomuseum.org\, or call the Museum at 207-244-9242.</strong><br />\n$25 for members\, $40 for nonmembers.<br />\nNonmember tickets include a 2019&nbsp\;membership to the Museum.<br />\nAll tickets include light hors d&rsquo\;oeuvres and drinks.<br />\nCarpooling encouraged!</p>\n
LOCATION:Seal Cove Auto Museum 1414 Tremont Road Seal Cove\, ME 04674
UID:e.3061.5089
SEQUENCE:3
DTSTAMP:20260420T043011Z
URL:https://www.visitbarharbor.com/events/details/brass-club-speakeasy-5089
END:VEVENT

END:VCALENDAR
