BEGIN:VCALENDAR
VERSION:2.0
PRODID:-//ChamberMaster//Event Calendar 2.0//EN
METHOD:PUBLISH
X-PUBLISHED-TTL:P3D
REFRESH-INTERVAL:P3D
CALSCALE:GREGORIAN
BEGIN:VEVENT
DTSTART:20190816T170000Z
DTEND:20190816T230000Z
X-MICROSOFT-CDO-ALLDAYEVENT:FALSE
SUMMARY:Botanical Pop-up Books\, Rebecca Goodale
DESCRIPTION:Rebecca Goodale\, instructor. For those of you who missed this last year - relax and have fun making a pop-up book about your favorite plants. You will learn five pop-up techniques that will each lend themselves to the expression of botanical forms.\n\n\n\nYou will leave with a 10-page paperback book\, filled with paper flowers and a lifetime of ideas. Tools & supplies you will want to have on hand: Scissors x-acto knife & blades self-healing cutting mat pencil ruler bone (manilla) folder brush and ink\, markers\, or colored pencils - whichever you enjoy making marks with.\n\n\n\nPhotos or sketches of your garden or favorite plants Paper & glue will be provided There will be some extra tools for you to borrow if you are missing something.\n\n\n\nRebecca Goodale makes unique and limited edition books. Her current project\, Threatened and Endangered\, is inspired by Maine's rare plants and animals. Her work is in numerous collections including Bowdoin College Library\; The Maine Women Writers Collection\; New York Public Library\; Herron Art Library\, IN\; Hawai'i State Art  Museum\; and the White House Ornament Collection. She is the Faculty Director of the University of Southern Maine's Book Arts at Stone House. Rebecca is represented by the Turtle Gallery in Deer Isle and by Vamp and Tramp Booksellers in Birmingham.\n\n\n\nArtWaves members: use code AW10 at checkout for your member discount. Friday\, August 16\, 1-7 pm
X-ALT-DESC;FMTTYPE=text/html:<div style="text-align:center">\n<div style="text-align: left\;"><span style="font-size:14px"><span style="font-family:arial\,helvetica\,sans-serif">Rebecca Goodale\, instructor. For those of you who missed this last year - relax and have fun making a pop-up book about your favorite plants. You will learn five pop-up techniques that will each lend themselves to the expression of botanical forms.<br />\n<br />\nYou will leave with a 10-page paperback book\, filled with paper flowers and a lifetime of ideas. Tools &amp\; supplies you will want to have on hand: Scissors x-acto knife &amp\; blades self-healing cutting mat pencil ruler bone (manilla) folder brush and ink\, markers\, or colored pencils - whichever you enjoy making marks with.<br />\n<br />\nPhotos or sketches of your garden or favorite plants Paper &amp\; glue will be provided There will be some extra tools for you to borrow if you are missing something.<br />\n<br />\nRebecca Goodale makes unique and limited edition books. Her current project\,&nbsp\;Threatened and Endangered\, is inspired by Maine&rsquo\;s rare plants and animals. Her work&nbsp\;is in numerous collections including Bowdoin College Library\; The Maine Women&nbsp\;Writers Collection\; New York Public Library\; Herron Art Library\, IN\; Hawai&rsquo\;i State Art&nbsp\; Museum\; and the White House Ornament Collection. She is the Faculty Director of the&nbsp\;University of Southern Maine&rsquo\;s Book Arts at Stone House. Rebecca is represented by&nbsp\;the Turtle Gallery in Deer Isle and by Vamp and Tramp Booksellers in Birmingham.<br />\n<br />\nArtWaves members: use code AW10 at checkout for your member discount. Friday\, August 16\, 1-7 pm</span></span></div>\n</div>\n\n<div style="text-align:center">\n<div>\n<div>\n<div style="text-align: left\;">&nbsp\;</div>\n\n<div>&nbsp\;</div>\n</div>\n</div>\n</div>\n
LOCATION:ArtWaves 1345 State Highway 102\, Bar Harbor
UID:e.3061.9251
SEQUENCE:3
DTSTAMP:20260419T192632Z
URL:https://www.visitbarharbor.com/events/details/botanical-pop-up-books-rebecca-goodale-9251
END:VEVENT

END:VCALENDAR
