BEGIN:VCALENDAR
VERSION:2.0
PRODID:-//ChamberMaster//Event Calendar 2.0//EN
METHOD:PUBLISH
X-PUBLISHED-TTL:P3D
REFRESH-INTERVAL:P3D
CALSCALE:GREGORIAN
BEGIN:VEVENT
DTSTART:20190818T130000Z
DTEND:20190818T200000Z
X-MICROSOFT-CDO-ALLDAYEVENT:FALSE
SUMMARY:Botanical Books and Book Binding
DESCRIPTION:With Rebecca Goodale. In the morning\, we will work with cutaway pages and a compound structure. In the afternoon\, we will make a cloth and book board binding for the same book.
X-ALT-DESC;FMTTYPE=text/html:With Rebecca Goodale. In the morning\, we will work with cutaway pages and a compound structure. In the afternoon\, we will make a cloth and book board binding for the same book.&nbsp\;
LOCATION:ArtWaves\, 1345-A State Highway 102\, Bar Harbor.
UID:e.3061.14477
SEQUENCE:3
DTSTAMP:20260419T192123Z
URL:https://www.visitbarharbor.com/events/details/botanical-books-and-book-binding-14477
END:VEVENT

END:VCALENDAR
