BEGIN:VCALENDAR
VERSION:2.0
PRODID:-//ChamberMaster//Event Calendar 2.0//EN
METHOD:PUBLISH
X-PUBLISHED-TTL:P3D
REFRESH-INTERVAL:P3D
CALSCALE:GREGORIAN
BEGIN:VEVENT
DTSTART:20180602T173000Z
DTEND:20180602T190000Z
X-MICROSOFT-CDO-ALLDAYEVENT:FALSE
SUMMARY:Book Talk: The House at Lobster Cove
DESCRIPTION:In her debut novel\, Swan's Island resident Jane Goodrich introduces the reader to George Nixon Black Jr.\, the elusive bachelor who was one of Boston's most ardent philanthropists\, "and see behind the doors of Kragsyde\, the house that sheltered and shaped him\, and continued to tell his story long after both were gone." To learn more: http://www.houseatlobstercove.com/
X-ALT-DESC;FMTTYPE=text/html:In her debut novel\, Swan&rsquo\;s Island resident Jane Goodrich introduces the reader to George Nixon Black Jr.\, the elusive bachelor who was one of Boston&rsquo\;s most ardent philanthropists\, &quot\;and see behind the doors of Kragsyde\, the house that sheltered and shaped him\, and continued to tell his story long after both were gone.&quot\; To learn more: http://www.houseatlobstercove.com/
LOCATION:Southwest Harbor Public Library
UID:e.3061.2158
SEQUENCE:3
DTSTAMP:20260420T200218Z
URL:https://www.visitbarharbor.com/events/details/book-talk-the-house-at-lobster-cove-2158
END:VEVENT

END:VCALENDAR
