BEGIN:VCALENDAR
VERSION:2.0
PRODID:-//ChamberMaster//Event Calendar 2.0//EN
METHOD:PUBLISH
X-PUBLISHED-TTL:P3D
REFRESH-INTERVAL:P3D
CALSCALE:GREGORIAN
BEGIN:VEVENT
DTSTART:20180717T213000Z
DTEND:20180717T230000Z
X-MICROSOFT-CDO-ALLDAYEVENT:FALSE
SUMMARY:Book Talk: Moral Combat
DESCRIPTION:Book Talk: Moral Combat: How Sex Divided American Christians and Fractured American Politics\, by R. Marie Griffiths Why are religious conflicts over sex and sexuality so inescapable in American politics today? The answer\, argues Dr. Griffith in Moral Combat\, lies in sharp disagreements that emerged among American Christians almost a century ago. Dr. Griffith is the John C. Danforth Distinguished Professor at Washington University in St. Louis\, where she directs the Danforth Center on Religion and Politics. Her talk will touch on debates around birth control\, censorship\, interracial marriage\, sex education\, abortion\, sexual harassment\, and LGBTQ rights. FMI: Contact the Library\, 244-7065.
X-ALT-DESC;FMTTYPE=text/html:Book Talk: Moral Combat: How Sex Divided American Christians and Fractured American Politics\, by R. Marie Griffiths Why are religious conflicts over sex and sexuality so inescapable in American politics today? The answer\, argues Dr. Griffith in Moral Combat\, lies in sharp disagreements that emerged among American Christians almost a century ago. Dr. Griffith is the John C. Danforth Distinguished Professor at Washington University in St. Louis\, where she directs the Danforth Center on Religion and Politics. Her talk will touch on debates around birth control\, censorship\, interracial marriage\, sex education\, abortion\, sexual harassment\, and LGBTQ rights. FMI: Contact the Library\, 244-7065.
LOCATION:Southwest Harbor Public Library
UID:e.3061.3071
SEQUENCE:3
DTSTAMP:20260420T182336Z
URL:https://www.visitbarharbor.com/events/details/book-talk-moral-combat-3071
END:VEVENT

END:VCALENDAR
