BEGIN:VCALENDAR
VERSION:2.0
PRODID:-//ChamberMaster//Event Calendar 2.0//EN
METHOD:PUBLISH
X-PUBLISHED-TTL:P3D
REFRESH-INTERVAL:P3D
CALSCALE:GREGORIAN
BEGIN:VEVENT
DTSTART:20180605T213000Z
DTEND:20180605T230000Z
X-MICROSOFT-CDO-ALLDAYEVENT:FALSE
SUMMARY:Birds of MDI
DESCRIPTION:"Birds live on the edge\," says retired Park Superintendent\, Paul Haertel. In this talk Paul will give an introduction to birding\, share good places to bird\, and delve into birding ethics and birding equipment. He will also discuss how current environmental issues are affecting migration patterns\, the mechanics of bird flight\, bird feeding\, and much more. Bring your questions for a very special evening with Paul Haertel!
X-ALT-DESC;FMTTYPE=text/html:&ldquo\;Birds live on the edge\,&rdquo\; says retired Park Superintendent\, Paul Haertel. In this talk Paul will give an introduction to birding\, share good places to bird\, and delve into birding ethics and birding equipment. He will also discuss how current environmental issues are affecting migration patterns\, the mechanics of bird flight\, bird feeding\, and much more. Bring your questions for a very special evening with Paul Haertel!
LOCATION:Southwest Harbor Public Library
UID:e.3061.2575
SEQUENCE:3
DTSTAMP:20260420T214022Z
URL:https://www.visitbarharbor.com/events/details/birds-of-mdi-2575
END:VEVENT

END:VCALENDAR
