BEGIN:VCALENDAR
VERSION:2.0
PRODID:-//ChamberMaster//Event Calendar 2.0//EN
METHOD:PUBLISH
X-PUBLISHED-TTL:P3D
REFRESH-INTERVAL:P3D
CALSCALE:GREGORIAN
BEGIN:VEVENT
DTSTART:20181009T150000Z
DTEND:20181009T220000Z
X-MICROSOFT-CDO-ALLDAYEVENT:FALSE
SUMMARY:Bird Day at the Gilley - Southwest Harbor Week
DESCRIPTION:All day long activities at the Wendell Gilley Museum\, including: 11am & 4pm: Curator tour of Barbara Ernst Prey's exhibition. 1-3pm: Watercolor nature journal workshop with artist Amy Gagnon. 5-6pm: Nightwalk nature program with local author Karen Zimmerman. Advance registration required for many activities. Contact the Gilley museum at info@wendellgilleymuseum.org or at 207 244 7555.
X-ALT-DESC;FMTTYPE=text/html:All day long activities at the Wendell Gilley Museum\, including: 11am &amp\; 4pm: Curator tour of Barbara Ernst Prey&#39\;s exhibition. 1-3pm: Watercolor nature journal workshop with artist Amy Gagnon. 5-6pm: Nightwalk nature program with local author Karen Zimmerman. Advance registration required for many activities. Contact the Gilley museum at info@wendellgilleymuseum.org or at 207 244 7555.
LOCATION:Wendell Gilley Museum 4 Herrick Rd Southwest Harbor\, ME 04679
UID:e.3061.3529
SEQUENCE:3
DTSTAMP:20260420T133850Z
URL:https://www.visitbarharbor.com/events/details/bird-day-at-the-gilley-southwest-harbor-week-3529
END:VEVENT

END:VCALENDAR
