BEGIN:VCALENDAR
VERSION:2.0
PRODID:-//ChamberMaster//Event Calendar 2.0//EN
METHOD:PUBLISH
X-PUBLISHED-TTL:P3D
REFRESH-INTERVAL:P3D
CALSCALE:GREGORIAN
BEGIN:VEVENT
DTSTART:20180731T130000Z
DTEND:20180731T190000Z
X-MICROSOFT-CDO-ALLDAYEVENT:FALSE
SUMMARY:Big Top Circus Arts Camp at College of the Atlantic!
DESCRIPTION:Have you ever wondered what it's like to swing from a trapeze?  Walk on a wire?  Do you wish you could juggle\, or stand on your hands?  Now is your chance to follow your dreams\, and join the circus!\n\n \n\nThis year\, The Sellam Circus School is excited to bring its red-and-white-striped big top tent back to the College of the Atlantic Campus for 3 full weeks in August!\n\n \n\nThis is a Monday-through-Friday circus arts day campthat will be open to students from 8 to 18 years of age.  And don't worry:  We are happy to consider interested students that fall outside of the standard age category! Just send us an e-mail at info@thesellamcircus.com to learn more.\n\n \n\nEach camp day will start with fun warm-ups and games\, before breaking into groups to learn skills on the trapeze\, aerial silks\, rope and aerial hoop - as well as acrobatics\, hand balancing\, juggling\, and more!\n\n\n\nTake advantage of our Early Registration pricing (through February 28th)\, our Circus Family discount (10% off for siblings) and our Circus Friends discount ($25 off for kids who get two of their friends to sign up)!  \n\n\n\nVisit The Sellam Circus School website to learn more about our Bar Harbor camp - and our other sessions throughout Maine and New Hampshire!\n\n\n\n. . . See you at the circus!
X-ALT-DESC;FMTTYPE=text/html:<strong>Have you ever wondered what it&rsquo\;s like to swing from a trapeze? &nbsp\;Walk on a wire? &nbsp\;Do you wish you could juggle\, or stand on your hands? &nbsp\;Now is your chance to follow your dreams\, and join the circus!</strong><br />\n<span style="color:rgb(34\, 34\, 34)\; font-family:arial\,verdana\,sans-serif\; font-size:12px">&nbsp\;</span><br />\n<span style="color:rgb(34\, 34\, 34)\; font-family:arial\,verdana\,sans-serif\; font-size:12px">This year\, The Sellam Circus School is excited to bring its red-and-white-striped big top tent back to the College of the Atlantic Campus for&nbsp\;</span><strong>3 full weeks in August!</strong><br />\n<span style="color:rgb(34\, 34\, 34)\; font-family:arial\,verdana\,sans-serif\; font-size:12px">&nbsp\;</span><br />\n<span style="color:rgb(34\, 34\, 34)\; font-family:arial\,verdana\,sans-serif\; font-size:12px">This is a&nbsp\;</span><strong>Monday-through-Friday circus arts day </strong><strong>camp</strong><span style="color:rgb(34\, 34\, 34)\; font-family:arial\,verdana\,sans-serif\; font-size:12px">that</span><span style="color:rgb(34\, 34\, 34)\; font-family:arial\,verdana\,sans-serif\; font-size:12px"> will be open to students from&nbsp\;</span><strong>8 to 18</strong><span style="color:rgb(34\, 34\, 34)\; font-family:arial\,verdana\,sans-serif\; font-size:12px">&nbsp\;years of age. &nbsp\;And don&#39\;t worry: &nbsp\;We are happy to consider interested students that fall outside of the standard age category! Just send us an e-mail at&nbsp\;</span><strong><a href="mailto:info@thesellamcircus.com">info@thesellamcircus.com</a></strong><span style="color:rgb(34\, 34\, 34)\; font-family:arial\,verdana\,sans-serif\; font-size:12px">&nbsp\;to learn more.</span><br />\n<span style="color:rgb(34\, 34\, 34)\; font-family:arial\,verdana\,sans-serif\; font-size:12px">&nbsp\;</span><br />\n<span style="color:rgb(34\, 34\, 34)\; font-family:arial\,verdana\,sans-serif\; font-size:12px">Each camp day will start with fun warm-ups and games\, before breaking into groups to learn skills on the trapeze\, aerial silks\, rope and aerial hoop - as well as acrobatics\, hand balancing\, juggling\, and more!</span><br />\n<br />\n<span style="color:rgb(34\, 34\, 34)\; font-family:arial\,verdana\,sans-serif\; font-size:12px">Take advantage of our&nbsp\;</span><strong>Early Registration pricing</strong><span style="color:rgb(34\, 34\, 34)\; font-family:arial\,verdana\,sans-serif\; font-size:12px">&nbsp\;(through February 28th)\, our&nbsp\;</span><strong>Circus Family discount</strong><span style="color:rgb(34\, 34\, 34)\; font-family:arial\,verdana\,sans-serif\; font-size:12px">&nbsp\;(10% off for siblings) and our&nbsp\;</span><strong>Circus Friends discount</strong><span style="color:rgb(34\, 34\, 34)\; font-family:arial\,verdana\,sans-serif\; font-size:12px">&nbsp\;($25 off for kids who get two of their friends to sign up)!&nbsp\;&nbsp\;</span><br />\n<br />\n<span style="color:rgb(34\, 34\, 34)\; font-family:arial\,verdana\,sans-serif\; font-size:12px">Visit&nbsp\;</span><a href="http://www.thesellamcircus.com/register" style="font-family: Arial\, Verdana\, sans-serif\; font-size: 12px\;">The Sellam Circus School website</a><span style="color:rgb(34\, 34\, 34)\; font-family:arial\,verdana\,sans-serif\; font-size:12px">&nbsp\;to learn more about our Bar Harbor camp - and our other sessions throughout Maine and New Hampshire!</span><br />\n<br />\n<span style="color:rgb(34\, 34\, 34)\; font-family:arial\,verdana\,sans-serif\; font-size:12px">. . . See you at the circus!</span>
LOCATION:College of the Atlantic\, 105 Eden Street\, Bar Harbor\, ME 04609
UID:e.3061.832
SEQUENCE:3
DTSTAMP:20260420T200518Z
URL:https://www.visitbarharbor.com/events/details/big-top-circus-arts-camp-at-college-of-the-atlantic-07-31-2018-832
END:VEVENT

END:VCALENDAR
