BEGIN:VCALENDAR
VERSION:2.0
PRODID:-//ChamberMaster//Event Calendar 2.0//EN
METHOD:PUBLISH
X-PUBLISHED-TTL:P3D
REFRESH-INTERVAL:P3D
CALSCALE:GREGORIAN
BEGIN:VEVENT
DTSTART:20181005T230000Z
DTEND:20181006T000000Z
X-MICROSOFT-CDO-ALLDAYEVENT:FALSE
SUMMARY:Bhutan Talk and Slideshow
DESCRIPTION:The Kingdom of Bhutan in Southern Asia is situated in the Eastern Himalayan Mountains in between Tibet and India. In the fall of 2017\, Dan DeLuca\, a teacher and interpreter\, traveled to this remote country. Now\, join DeLuca\, at the Jesup Memorial Library on Friday\, Oct. 5 at 7 p.m. as he shares stories and pictures from his time in the Land of the Thunder Dragon. Bhutan is the only carbon neutral country in the world and has popularized the idea of gross national happiness\, an index which is used to measure the collective happiness and well-being of a population. Learn more about this special place. \n\n \n\nFor more information on the talk\, contact the Jesup at 207-288-4245 or mrice@jesuplibrary.org.
X-ALT-DESC;FMTTYPE=text/html:<span style="font-family:times new roman\,serif"><span style="font-size:14.0pt">The Kingdom of Bhutan in Southern Asia is situated in the Eastern Himalayan Mountains in between Tibet and India. In the fall of 2017\, Dan DeLuca\, a teacher and interpreter\, traveled to this remote country. Now\, join DeLuca\, at the Jesup Memorial Library on Friday\, Oct. 5 at 7 p.m. as he shares stories and pictures from his time in the Land of the Thunder Dragon. Bhutan is the only carbon neutral country in the world and has popularized the idea of gross national happiness\, an index which is used to measure the collective happiness and well-being of a population. Learn more about this special place. </span></span><br />\n&nbsp\;<br />\n<span style="font-family:times new roman\,serif"><span style="font-size:14.0pt">For more information on the talk\, contact the Jesup at <span class="gc-cs-link" id="gc-number-0" title="Call with Google Voice">207-288-4245</span> or mrice@jesuplibrary.org. </span></span>
LOCATION:Jesup Memorial Library\, 34 Mt. Desert St.\, Bar Harbor\, ME 04609
UID:e.3061.3932
SEQUENCE:3
DTSTAMP:20260420T131801Z
URL:https://www.visitbarharbor.com/events/details/bhutan-talk-and-slideshow-3932
END:VEVENT

END:VCALENDAR
