BEGIN:VCALENDAR
VERSION:2.0
PRODID:-//ChamberMaster//Event Calendar 2.0//EN
METHOD:PUBLISH
X-PUBLISHED-TTL:P3D
REFRESH-INTERVAL:P3D
CALSCALE:GREGORIAN
BEGIN:VEVENT
DTSTART:20180511T223000Z
DTEND:20180511T233000Z
X-MICROSOFT-CDO-ALLDAYEVENT:FALSE
SUMMARY:Beyond The Whale Skull
DESCRIPTION:No one will ever be able to learn all there is to learn\, but by collaborating and exchanging ideas with people in various fields of expertise\, human ecologists can combine knowledge that will help them form a holistic understanding of the world. In doing so\, we develop the ability to solve complex problems locally and globally.\n\nBeyond The Whale Skull is an occasion to celebrate the talent and knowledge that exists in our community. Inspired by - and taking a step beyond the TED-talk format - Beyond The Whale Skull fosters the sharing of life-changing ideas through stories\, poetry\, art\, and other creative mediums.\n\n\n\nThis is a free event
X-ALT-DESC;FMTTYPE=text/html:<p>No one will ever be able to learn all there is to learn\, but by collaborating and exchanging ideas with people in various fields of expertise\, human ecologists can combine knowledge that will help them form a holistic understanding of the world. In doing so\, we develop the ability to solve complex problems locally and globally.</p>\n\n<p>Beyond The Whale Skull is an occasion to celebrate the talent and knowledge that exists in our community. Inspired by - and taking a step beyond the TED-talk format - Beyond The Whale Skull fosters the sharing of life-changing ideas through stories\, poetry\, art\, and other creative mediums.<br />\n<br />\nThis is a free event</p>\n
LOCATION:College of the Atlantic\, Thomas S. Gates\, Jr. Community Center\, Bar Harbor\, ME
UID:e.3061.807
SEQUENCE:3
DTSTAMP:20260420T215631Z
URL:https://www.visitbarharbor.com/events/details/beyond-the-whale-skull-807
END:VEVENT

END:VCALENDAR
