BEGIN:VCALENDAR
VERSION:2.0
PRODID:-//ChamberMaster//Event Calendar 2.0//EN
METHOD:PUBLISH
X-PUBLISHED-TTL:P3D
REFRESH-INTERVAL:P3D
CALSCALE:GREGORIAN
BEGIN:VEVENT
DTSTART:20181112T230000Z
DTEND:20181113T010000Z
X-MICROSOFT-CDO-ALLDAYEVENT:FALSE
SUMMARY:Being Mortal screening with panel discussion
DESCRIPTION:Join us for a free screening and discussion of the PBS Frontline film Being Mortal. Based on the best-selling book by Dr. Atul Gawande\, this documentary explores the hopes of patient and families facing terminal illness and their relationships with the physicians who treat them.
X-ALT-DESC;FMTTYPE=text/html:Join us for a free screening and discussion of the PBS Frontline film Being Mortal. Based on the best-selling book by Dr. Atul Gawande\, this documentary explores the hopes of patient and families facing terminal illness and their relationships with the physicians who treat them.
LOCATION:Frenchman's Bay Library\, Sullivan
UID:e.3061.4284
SEQUENCE:3
DTSTAMP:20260420T112920Z
URL:https://www.visitbarharbor.com/events/details/being-mortal-screening-with-panel-discussion-4284
END:VEVENT

END:VCALENDAR
