BEGIN:VCALENDAR
VERSION:2.0
PRODID:-//ChamberMaster//Event Calendar 2.0//EN
METHOD:PUBLISH
X-PUBLISHED-TTL:P3D
REFRESH-INTERVAL:P3D
CALSCALE:GREGORIAN
BEGIN:VEVENT
DTSTART:20190921T170000Z
DTEND:20190921T180000Z
X-MICROSOFT-CDO-ALLDAYEVENT:FALSE
SUMMARY:Beginner Burlesque
DESCRIPTION:with Kinky Slippers (Gwen Stevens). Learn how to move with grace and confidence in a safe and welcoming environment.
X-ALT-DESC;FMTTYPE=text/html:with Kinky Slippers (Gwen Stevens). Learn how to move with grace and confidence in a safe and welcoming environment.&nbsp\;
LOCATION:ArtWaves\, 1345-A State Highway 102\, Bar Harbor
UID:e.3061.14787
SEQUENCE:3
DTSTAMP:20260419T172957Z
URL:https://www.visitbarharbor.com/events/details/beginner-burlesque-14787
END:VEVENT

END:VCALENDAR
