BEGIN:VCALENDAR
VERSION:2.0
PRODID:-//ChamberMaster//Event Calendar 2.0//EN
METHOD:PUBLISH
X-PUBLISHED-TTL:P3D
REFRESH-INTERVAL:P3D
CALSCALE:GREGORIAN
BEGIN:VEVENT
DTSTART:20190223T220000Z
DTEND:20190224T003000Z
X-MICROSOFT-CDO-ALLDAYEVENT:FALSE
SUMMARY:Beers & Gears at the Seal Cove Auto Museum
DESCRIPTION:The museum is hosting a series of monthly Beers & Gears gatherings throughout the winter.\n\nCome in from the cold to hang out with us and your friends during the dark winter afternoons!\n\nBEER * SNACKS * GAMES * LIVE MUSIC * DOOR PRIZES\n\n5:00pm-6:30pm: Music by The CG Band\n\n6:30pm-7:30pm: Community Jam\n\nThe February Beers & Gears will feature beer from Strong's Brewing Co. in Sedwick\, ME. \n\n\n\n$10 cover charge includes museum admission & two drink tickets.\n\nFree for musicians participating in the community jam!\n\nThe bar will accept drink tickets and donations.
X-ALT-DESC;FMTTYPE=text/html:<p style="text-align: center\;"><span style="font-size:12px"><span style="font-family:arial\,helvetica\,sans-serif">The museum is hosting a series of monthly Beers &amp\; Gears gatherings throughout the winter.<br />\nCome in from the cold to hang out with us and your friends during the dark winter afternoons!</span></span></p>\n\n<p style="text-align: center\;"><span style="font-size:12px"><span style="font-family:arial\,helvetica\,sans-serif">BEER * SNACKS * GAMES * LIVE MUSIC * DOOR PRIZES</span></span></p>\n\n<p style="text-align: center\;"><span style="font-size:12px"><span style="font-family:arial\,helvetica\,sans-serif">5:00pm-6:30pm: Music by The CG Band<br />\n6:30pm-7:30pm: Community Jam</span></span></p>\n\n<p style="text-align: center\;"><span style="font-size:12px"><span style="font-family:arial\,helvetica\,sans-serif">The February Beers &amp\; Gears will feature beer from Strong&#39\;s Brewing Co. in Sedwick\, ME.&nbsp\;<br />\n<br />\n<span style="color:rgb(102\, 102\, 102)">$10 cover charge includes museum admission &amp\; two drink tickets.</span><br />\n<span style="color:rgb(102\, 102\, 102)">Free for musicians participating in the community jam!</span><br />\n<span style="color:rgb(102\, 102\, 102)">The bar will accept drink tickets and donations.</span></span></span></p>\n
LOCATION:Seal Cove Auto Museum 1414 Tremont Road Seal Cove\, ME 04674
UID:e.3061.5090
SEQUENCE:3
DTSTAMP:20260420T062935Z
URL:https://www.visitbarharbor.com/events/details/beers-gears-at-the-seal-cove-auto-museum-5090
END:VEVENT

END:VCALENDAR
