BEGIN:VCALENDAR
VERSION:2.0
PRODID:-//ChamberMaster//Event Calendar 2.0//EN
METHOD:PUBLISH
X-PUBLISHED-TTL:P3D
REFRESH-INTERVAL:P3D
CALSCALE:GREGORIAN
BEGIN:VEVENT
DTSTART:20190330T210000Z
DTEND:20190330T233000Z
X-MICROSOFT-CDO-ALLDAYEVENT:FALSE
SUMMARY:Beers & Gears at the Seal Cove Auto Museum
DESCRIPTION:The museum is hosting a series of monthly Beers & Gears gatherings throughout the winter.\n\nCome in from the cold to hang out with us and your friends during the dark winter afternoons!\n\n\n\nMusic by Peter Martin\, followed by a community jam!\n\nBEER BY AIRLINE BREWING COMPANY * SNACKS * GAMES * DOOR PRIZES\n\n$10 cover charge includes museum admission & two drink tickets.\n\nFree for musicians participating in the community jam.\n\nThe bar will accept drink tickets and donations.
X-ALT-DESC;FMTTYPE=text/html:<p style="text-align:center">The museum is hosting a series of monthly Beers &amp\; Gears gatherings throughout the winter.<br />\nCome in from the cold to hang out with us and your friends during the dark winter afternoons!<br />\n<br />\nMusic by Peter Martin\, followed by a community jam!</p>\n\n<p style="text-align:center">BEER BY AIRLINE BREWING COMPANY * SNACKS * GAMES * DOOR PRIZES</p>\n\n<p style="text-align:center">$10 cover charge includes museum admission &amp\; two drink tickets.</p>\n\n<p style="text-align:center">Free for musicians participating in the community jam.<br />\nThe bar will accept drink tickets and donations.</p>\n
LOCATION:Seal Cove Auto Museum 1414 Tremont Road Seal Cove\, ME 04674
UID:e.3061.8775
SEQUENCE:3
DTSTAMP:20260420T063039Z
URL:https://www.visitbarharbor.com/events/details/beers-gears-at-the-seal-cove-auto-museum-03-30-2019-8775
END:VEVENT

END:VCALENDAR
