BEGIN:VCALENDAR
VERSION:2.0
PRODID:-//ChamberMaster//Event Calendar 2.0//EN
METHOD:PUBLISH
X-PUBLISHED-TTL:P3D
REFRESH-INTERVAL:P3D
CALSCALE:GREGORIAN
BEGIN:VEVENT
DTSTART:20190427T210000Z
DTEND:20190427T233000Z
X-MICROSOFT-CDO-ALLDAYEVENT:FALSE
SUMMARY:Beers & Gears at Seal Cove Auto Museum
DESCRIPTION:The museum is hosting a series of monthly Beers & Gears gatherings throughout the winter and early spring.\n\nCome in from the cold to hang out with us and your friends during mud season!\n\nBEER * SNACKS * GAMES * OPEN MIC\n\n5:00pm-6:30pm: Music by Big Tree \n\n6:30pm-7:30pm: Community Jam\n\nBeer from Atlantic Brewing Company will be featured.\n\n$10 cover charge includes museum admission & two drink tickets.\n\nFree for musicians participating in the community jam.\n\nThe bar will accept drink tickets and donations.
X-ALT-DESC;FMTTYPE=text/html:<p style="text-align:center">The museum is hosting a series of monthly Beers &amp\; Gears gatherings throughout the winter and early spring.<br />\nCome in from the cold to hang out with us and your friends during mud season!</p>\n\n<p style="text-align:center">BEER * SNACKS * GAMES * OPEN MIC</p>\n\n<p style="text-align:center">5:00pm-6:30pm: Music by Big Tree&nbsp\;<br />\n6:30pm-7:30pm: Community Jam</p>\n\n<p style="text-align:center">Beer from Atlantic Brewing Company will be featured.</p>\n\n<p style="text-align:center">$10 cover charge includes museum admission &amp\; two drink tickets.<br />\nFree for musicians participating in the community jam.<br />\nThe bar will accept drink tickets and donations.</p>\n
LOCATION:Seal Cove Auto Museum 1414 Tremont Road Seal Cove\, ME 04674
UID:e.3061.8861
SEQUENCE:3
DTSTAMP:20260420T023952Z
URL:https://www.visitbarharbor.com/events/details/beers-gears-at-seal-cove-auto-museum-8861
END:VEVENT

END:VCALENDAR
