BEGIN:VCALENDAR
VERSION:2.0
PRODID:-//ChamberMaster//Event Calendar 2.0//EN
METHOD:PUBLISH
X-PUBLISHED-TTL:P3D
REFRESH-INTERVAL:P3D
CALSCALE:GREGORIAN
BEGIN:VEVENT
DTSTART:20190911T220000Z
DTEND:20190912T010000Z
X-MICROSOFT-CDO-ALLDAYEVENT:FALSE
SUMMARY:Beer Dinner with Local Brewery at Bar Harbor BeerWorks
DESCRIPTION:Join us at Bar Harbor BeerWorks for a five course dinner featuring five beer pairings from a different local brewery each week! The brewer's will join us for dinner to discuss the brewing process\, what is unique about the Maine beer industry all while we enjoy delicious food and beer. It's a must do for any beer enthusiast. Each week we will have a different Maine brewery in house. June 19- Mason's Brewing Company July 17- Geaghan Brothers Brewing Co.\, July 31 Marsh Island Brewing\, Check Bar Harbor BeerWorks Facebook page for weekly updates! Buy tickets ($50) at Bar Harbor BeerWorks or at Eventbrite.com. Questions? email info@eatfishmaine.com
X-ALT-DESC;FMTTYPE=text/html:Join us at Bar Harbor BeerWorks for a five course dinner featuring five beer pairings from a different local brewery each week! The brewer&#39\;s will join us for dinner to discuss the brewing process\, what is unique about the Maine beer industry all while we enjoy delicious food and beer. It&#39\;s a must do for any beer enthusiast. Each week we will have a different Maine brewery in house. June 19- Mason&#39\;s Brewing Company July 17- Geaghan Brothers Brewing Co.\, July 31 Marsh Island Brewing\, Check Bar Harbor BeerWorks Facebook page for weekly updates! Buy tickets ($50) at Bar Harbor BeerWorks or at Eventbrite.com. Questions? email info@eatfishmaine.com<br />\n&nbsp\;
LOCATION:Bar Harbor BeerWorks 119 Main St. Bar Harbor
UID:e.3061.11448
SEQUENCE:3
DTSTAMP:20260419T173902Z
URL:https://www.visitbarharbor.com/events/details/beer-dinner-with-local-brewery-at-bar-harbor-beerworks-09-11-2019-11448
END:VEVENT

END:VCALENDAR
