BEGIN:VCALENDAR
VERSION:2.0
PRODID:-//ChamberMaster//Event Calendar 2.0//EN
METHOD:PUBLISH
X-PUBLISHED-TTL:P3D
REFRESH-INTERVAL:P3D
CALSCALE:GREGORIAN
BEGIN:VEVENT
DTSTART:20180919T230000Z
DTEND:20180920T000000Z
X-MICROSOFT-CDO-ALLDAYEVENT:FALSE
SUMMARY:Beekeeping Talk with Andrew Dewey
DESCRIPTION:Join Master Beekeeper Andrew Dewey at the Jesup Memorial Library on Wednesday\, Sept. 19 at 7 p.m. to learn more about beekeeping.  Dewey has kept bees in Maine since 2001. He is certified by both the Eastern Apicultural Society and The University of Montana as a Master Beekeeper and by the University of Maine as a Master Gardener Volunteer. He teaches Beginner and Intermediate Beekeeping classes through the University of Maine Cooperative Extension office in Washington County. Dewey serves as Treasurer of the Maine State Beekeepers Association and is past president and founder of The Washington County Beekeepers Association.\n\n \n\nFor more information on the talk contact the Jesup at 207-288-4245 or mrice@jesuplibrary.org.
X-ALT-DESC;FMTTYPE=text/html:<span style="font-family:times new roman\,serif"><span style="font-size:14.0pt">Join Master Beekeeper Andrew Dewey at the Jesup Memorial Library on Wednesday\, Sept. 19 at 7 p.m. to learn more about beekeeping.&nbsp\; Dewey has kept bees in Maine since 2001. He is certified by both the Eastern Apicultural Society and The University of Montana as a Master Beekeeper and by the University of Maine as a Master Gardener Volunteer. He teaches Beginner and Intermediate Beekeeping classes through the University of Maine Cooperative Extension office in Washington County. Dewey serves as Treasurer of the Maine State Beekeepers Association and is past president and founder of The Washington County Beekeepers Association.</span></span><br />\n&nbsp\;<br />\n<span style="font-family:times new roman\,serif"><span style="font-size:14.0pt"><span>For more information on the talk contact the Jesup at <span class="gc-cs-link" id="gc-number-0" title="Call with Google Voice">207-288-4245</span> or </span><a href="mailto:mrice@jesuplibrary.org">mrice@jesuplibrary.org</a></span>. </span>
LOCATION:Jesup Memorial Library\, 34 Mt. Desert St.\, Bar Harbor\, ME 04609
UID:e.3061.3846
SEQUENCE:3
DTSTAMP:20260420T145913Z
URL:https://www.visitbarharbor.com/events/details/beekeeping-talk-with-andrew-dewey-3846
END:VEVENT

END:VCALENDAR
