BEGIN:VCALENDAR
VERSION:2.0
PRODID:-//ChamberMaster//Event Calendar 2.0//EN
METHOD:PUBLISH
X-PUBLISHED-TTL:P3D
REFRESH-INTERVAL:P3D
CALSCALE:GREGORIAN
BEGIN:VEVENT
DTSTART:20180819T170000Z
DTEND:20180819T180000Z
X-MICROSOFT-CDO-ALLDAYEVENT:FALSE
SUMMARY:Bee Parks and the Hornets
DESCRIPTION:Bee Parks and the Hornets at The Criterion Theatre Bee Parks and the Hornets is an original indie pop-rock band for young audiences presented by Barn Arts Collective that uses live music\, puppetry\, and audience participation to encourage kindness\, environmental stewardship and movement! Join us every Thursday at 11 a.m. and Sunday at 1 p.m. July 5-September 2. Sponsored by Galyn's Restaurant and Destination Health. All tickets $7. Group rates available for ten or more.
X-ALT-DESC;FMTTYPE=text/html:Bee Parks and the Hornets at The Criterion Theatre Bee Parks and the Hornets is an original indie pop-rock band for young audiences presented by Barn Arts Collective that uses live music\, puppetry\, and audience participation to encourage kindness\, environmental stewardship and movement! Join us every Thursday at 11 a.m. and Sunday at 1 p.m. July 5-September 2. Sponsored by Galyn's Restaurant and Destination Health. All tickets $7. Group rates available for ten or more.
LOCATION:Criterion Theatre 35 Cottage St Bar Harbor\, Maine
UID:e.3061.3316
SEQUENCE:3
DTSTAMP:20260420T170222Z
URL:https://www.visitbarharbor.com/events/details/bee-parks-and-the-hornets-08-19-2018-3316
END:VEVENT

END:VCALENDAR
