BEGIN:VCALENDAR
VERSION:2.0
PRODID:-//ChamberMaster//Event Calendar 2.0//EN
METHOD:PUBLISH
X-PUBLISHED-TTL:P3D
REFRESH-INTERVAL:P3D
CALSCALE:GREGORIAN
BEGIN:VEVENT
DTSTART:20180829T223000Z
DTEND:20180829T233000Z
X-MICROSOFT-CDO-ALLDAYEVENT:FALSE
SUMMARY:Beautiful Beetles of Maine: A Nature Program at Woodlawn
DESCRIPTION:Beetles are easily recognized by their shell-like exteriors.  From exotic bombardier and jewel beetles to familiar ladybugs and fireflies\, Maine is home to bevies of beautiful beetles!  Come discover the amazing diversity and adaptations of these gorgeous insects living right in your own yard and garden. Woodlawn's nature programs\, led by naturalist Lynn Havsall\, are a fun learning experience open for all ages.  Children under 12 must be accompanied by an adult. Nature programs are free and open to the public. Donations\, however\, are greatly appreciated.\n\nSpace is limited.  Reservations are required.
X-ALT-DESC;FMTTYPE=text/html:<div>\n<p>Beetles are easily recognized by their shell-like exteriors. &nbsp\;From exotic bombardier and jewel beetles to familiar ladybugs and fireflies\, Maine is home to bevies of beautiful beetles! &nbsp\;Come discover the amazing diversity and adaptations of these gorgeous insects living right in your own yard and garden. Woodlawn&rsquo\;s nature programs\, led by naturalist Lynn Havsall\, are a fun learning experience open for all ages. &nbsp\;Children under 12 must be accompanied by an adult. Nature programs are free and open to the public. Donations\, however\, are greatly appreciated.</p>\n\n<p><strong>Space is limited. &nbsp\;<a href="https://woodlawnmuseum.com/event/beautiful-beetles-maine-nature-program-woodlawn/">Reservations are required.</a></strong></p>\n</div>\n
LOCATION:Woodlawn Museum\, 19 Black House Drive\, Ellsworth\, ME 04605
UID:e.3061.2516
SEQUENCE:3
DTSTAMP:20260420T170648Z
URL:https://www.visitbarharbor.com/events/details/beautiful-beetles-of-maine-a-nature-program-at-woodlawn-2516
END:VEVENT

END:VCALENDAR
