BEGIN:VCALENDAR
VERSION:2.0
PRODID:-//ChamberMaster//Event Calendar 2.0//EN
METHOD:PUBLISH
X-PUBLISHED-TTL:P3D
REFRESH-INTERVAL:P3D
CALSCALE:GREGORIAN
BEGIN:VEVENT
DTSTART:20200727T213000Z
DTEND:20200727T223000Z
X-MICROSOFT-CDO-ALLDAYEVENT:FALSE
SUMMARY:Barre
DESCRIPTION:with Aquene Diedricksen.
X-ALT-DESC;FMTTYPE=text/html:with Aquene Diedricksen.
LOCATION:ArtWaves\, 1345-A State Highway 102\, Bar Harbor.
UID:e.3061.22772
SEQUENCE:3
DTSTAMP:20260422T012845Z
URL:https://www.visitbarharbor.com/events/details/barre-07-27-2020-22772
END:VEVENT

END:VCALENDAR
