BEGIN:VCALENDAR
VERSION:2.0
PRODID:-//ChamberMaster//Event Calendar 2.0//EN
METHOD:PUBLISH
X-PUBLISHED-TTL:P3D
REFRESH-INTERVAL:P3D
CALSCALE:GREGORIAN
BEGIN:VEVENT
DTSTART:20200608T213000Z
DTEND:20200608T223000Z
X-MICROSOFT-CDO-ALLDAYEVENT:FALSE
SUMMARY:Barre
DESCRIPTION:with Aquene Diedricksen.
X-ALT-DESC;FMTTYPE=text/html:with Aquene Diedricksen.
LOCATION:ArtWaves\, 1345-A State Highway 102\, Bar Harbor.
UID:e.3061.22765
SEQUENCE:3
DTSTAMP:20260422T044324Z
URL:https://www.visitbarharbor.com/events/details/barre-06-08-2020-22765
END:VEVENT

END:VCALENDAR
