BEGIN:VCALENDAR
VERSION:2.0
PRODID:-//ChamberMaster//Event Calendar 2.0//EN
METHOD:PUBLISH
X-PUBLISHED-TTL:P3D
REFRESH-INTERVAL:P3D
CALSCALE:GREGORIAN
BEGIN:VEVENT
DTSTART:20180818T140000Z
DTEND:20180818T210000Z
X-MICROSOFT-CDO-ALLDAYEVENT:FALSE
SUMMARY:Barn Find Hunter Tom Cotter special visit
DESCRIPTION:Tom Cotter\, author and Hagerty's Barn Find Hunter\, will be at the museum for the day with his Cunningham C-3. He will have some of his books available and video as well.\n\n\n\nMr. Cotter spent much of his life digging in barns and garages in search of buried automotive treasure. A former contributor to Road & Track and The New York Times\, Tom Cotter is the author of sixteen automotive books\, many on the subject of automotive archeology. His books have led to a Youtube video series called Barn Find Hunter\, sponsored by Hagerty Insurance and Shell. Prior to becoming a full-time writer\, Cotter was founder of an automotive and motorsport PR and marketing agency called Cotter Group. The agency managed many of the largest sponsors in all forms of racing including NASCAR\, IndyCar/CART\, SCCA\, NHRA and vintage racing. He is a contributing editor for Vintage Motorsport Magazine and regularly contributes to Hagerty Magazine. He lives in Davidson\, NC.
X-ALT-DESC;FMTTYPE=text/html:Tom Cotter\, author and Hagerty&rsquo\;s Barn Find Hunter\, will be at the museum for the day with his Cunningham C-3. He will have some of his books available and video as well.<br />\n<br />\nMr. Cotter spent much of his life digging in barns and garages in search of buried automotive treasure. A former contributor to Road &amp\; Track and The New York Times\, Tom Cotter is the author of sixteen automotive books\, many on the subject of automotive archeology. His books have led to a Youtube video series called Barn Find Hunter\, sponsored by Hagerty Insurance and Shell. Prior to becoming a full-time writer\, Cotter was founder of an automotive and motorsport PR and marketing agency called Cotter Group. The agency managed many of the largest sponsors in all forms of racing including NASCAR\, IndyCar/CART\, SCCA\, NHRA and vintage racing. He is a contributing editor for Vintage Motorsport Magazine and regularly contributes to Hagerty Magazine. He lives in Davidson\, NC.
LOCATION:Seal Cove Auto Museum 1414 Tremont Rd. Seal Cove\, ME
UID:e.3061.3434
SEQUENCE:3
DTSTAMP:20260420T163639Z
URL:https://www.visitbarharbor.com/events/details/barn-find-hunter-tom-cotter-special-visit-3434
END:VEVENT

END:VCALENDAR
