BEGIN:VCALENDAR
VERSION:2.0
PRODID:-//ChamberMaster//Event Calendar 2.0//EN
METHOD:PUBLISH
X-PUBLISHED-TTL:P3D
REFRESH-INTERVAL:P3D
CALSCALE:GREGORIAN
BEGIN:VEVENT
DTSTART:20190807T000000Z
DTEND:20190807T010000Z
X-MICROSOFT-CDO-ALLDAYEVENT:FALSE
SUMMARY:Bar Harbor Town Band Concert
DESCRIPTION:SPECIAL SALSBURY COVE CONCERT! Free and fun for all ages! Rain or shine.
X-ALT-DESC;FMTTYPE=text/html:SPECIAL SALSBURY COVE CONCERT! Free and fun for all ages! Rain or shine.
LOCATION:Eden Baptist Church\, Salsbury Cove
UID:e.3061.14303
SEQUENCE:3
DTSTAMP:20260422T193835Z
URL:https://www.visitbarharbor.com/events/details/bar-harbor-town-band-concert-08-06-2019-14303
END:VEVENT

END:VCALENDAR
