BEGIN:VCALENDAR
VERSION:2.0
PRODID:-//ChamberMaster//Event Calendar 2.0//EN
METHOD:PUBLISH
X-PUBLISHED-TTL:P3D
REFRESH-INTERVAL:P3D
CALSCALE:GREGORIAN
BEGIN:VEVENT
DTSTART:20220925T130000Z
DTEND:20220925T160000Z
X-MICROSOFT-CDO-ALLDAYEVENT:FALSE
SUMMARY:Bar Harbor's Eden Farmers Market
DESCRIPTION:Bar Harbor Eden Farmers' Market\n\n	Fresh vegetables\n	Local fruit\n	Pork\, beef\, chicken and other meats and poultry\n	Milk\n	Eggs\n	Goat\, cow and sheep cheeses\n	Baked Goods\n	Locally Roasted Coffee\n	Ethnic cuisine and locally prepared foods \n	Pickles\, jams and jellies\n	Granola\n	Maple syrup\n	Mushrooms\n	Flowers \n	Seedlings\n	Cured meats and jerky \n	Pasta\n	Health and Beauty Products
X-ALT-DESC;FMTTYPE=text/html:<strong style="color: rgb(155\, 155\, 155)\; font-family: Montserrat\; font-size: 18px\; background-color: rgb(255\, 255\, 255)\;"><font color="#2a2a2a">Bar Harbor Eden Farmers' Market</font></strong>\n<ul style="padding-top: 0px\; padding-right: 0px\; padding-bottom: 0px\; color: rgb(155\, 155\, 155)\; font-family: Montserrat\; font-size: 18px\; background-color: rgb(255\, 255\, 255)\; margin: 5px 0px !important\; padding-left: 3em !important\; list-style-position: outside !important\; list-style-image: initial !important\;">\n	<li style="margin: 3px 0px 0px !important\; padding-top: 0px\; padding-right: 0px\; padding-bottom: 0px\; padding-left: 5px !important\; list-style: outside disc !important\;">Fresh&nbsp\;vegetables</li>\n	<li style="margin: 3px 0px 0px !important\; padding-top: 0px\; padding-right: 0px\; padding-bottom: 0px\; padding-left: 5px !important\; list-style: outside disc !important\;">Local fruit</li>\n	<li style="margin: 3px 0px 0px !important\; padding-top: 0px\; padding-right: 0px\; padding-bottom: 0px\; padding-left: 5px !important\; list-style: outside disc !important\;">Pork\, beef\, chicken and other meats and poultry</li>\n	<li style="margin: 3px 0px 0px !important\; padding-top: 0px\; padding-right: 0px\; padding-bottom: 0px\; padding-left: 5px !important\; list-style: outside disc !important\;">Milk</li>\n	<li style="margin: 3px 0px 0px !important\; padding-top: 0px\; padding-right: 0px\; padding-bottom: 0px\; padding-left: 5px !important\; list-style: outside disc !important\;">Eggs</li>\n	<li style="margin: 3px 0px 0px !important\; padding-top: 0px\; padding-right: 0px\; padding-bottom: 0px\; padding-left: 5px !important\; list-style: outside disc !important\;">Goat\, cow and sheep cheeses</li>\n	<li style="margin: 3px 0px 0px !important\; padding-top: 0px\; padding-right: 0px\; padding-bottom: 0px\; padding-left: 5px !important\; list-style: outside disc !important\;">Baked Goods</li>\n	<li style="margin: 3px 0px 0px !important\; padding-top: 0px\; padding-right: 0px\; padding-bottom: 0px\; padding-left: 5px !important\; list-style: outside disc !important\;">Locally Roasted Coffee</li>\n	<li style="margin: 3px 0px 0px !important\; padding-top: 0px\; padding-right: 0px\; padding-bottom: 0px\; padding-left: 5px !important\; list-style: outside disc !important\;">Ethnic cuisine and locally prepared foods&nbsp\;</li>\n	<li style="margin: 3px 0px 0px !important\; padding-top: 0px\; padding-right: 0px\; padding-bottom: 0px\; padding-left: 5px !important\; list-style: outside disc !important\;">Pickles\, jams and jellies</li>\n	<li style="margin: 3px 0px 0px !important\; padding-top: 0px\; padding-right: 0px\; padding-bottom: 0px\; padding-left: 5px !important\; list-style: outside disc !important\;">Granola</li>\n	<li style="margin: 3px 0px 0px !important\; padding-top: 0px\; padding-right: 0px\; padding-bottom: 0px\; padding-left: 5px !important\; list-style: outside disc !important\;">Maple syrup</li>\n	<li style="margin: 3px 0px 0px !important\; padding-top: 0px\; padding-right: 0px\; padding-bottom: 0px\; padding-left: 5px !important\; list-style: outside disc !important\;">Mushrooms</li>\n	<li style="margin: 3px 0px 0px !important\; padding-top: 0px\; padding-right: 0px\; padding-bottom: 0px\; padding-left: 5px !important\; list-style: outside disc !important\;">Flowers&nbsp\;</li>\n	<li style="margin: 3px 0px 0px !important\; padding-top: 0px\; padding-right: 0px\; padding-bottom: 0px\; padding-left: 5px !important\; list-style: outside disc !important\;">Seedlings</li>\n	<li style="margin: 3px 0px 0px !important\; padding-top: 0px\; padding-right: 0px\; padding-bottom: 0px\; padding-left: 5px !important\; list-style: outside disc !important\;">Cured meats and jerky&nbsp\;</li>\n	<li style="margin: 3px 0px 0px !important\; padding-top: 0px\; padding-right: 0px\; padding-bottom: 0px\; padding-left: 5px !important\; list-style: outside disc !important\;">Pasta</li>\n	<li style="margin: 3px 0px 0px !important\; padding-top: 0px\; padding-right: 0px\; padding-bottom: 0px\; padding-left: 5px !important\; list-style: outside disc !important\;">Health and Beauty Products&nbsp\;</li>\n</ul>\n
LOCATION:YMCA Parking Lot 21 Park St. Bar Harbor\, ME 04609
UID:e.3061.40886
SEQUENCE:3
DTSTAMP:20260419T223650Z
URL:https://www.visitbarharbor.com/events/details/bar-harbor-s-eden-farmers-market-09-25-2022-40886
END:VEVENT

END:VCALENDAR
