BEGIN:VCALENDAR
VERSION:2.0
PRODID:-//ChamberMaster//Event Calendar 2.0//EN
METHOD:PUBLISH
X-PUBLISHED-TTL:P3D
REFRESH-INTERVAL:P3D
CALSCALE:GREGORIAN
BEGIN:VEVENT
DTSTART:20210714T170000Z
DTEND:20210714T190000Z
X-MICROSOFT-CDO-ALLDAYEVENT:FALSE
SUMMARY:Bar Harbor Music Festival: Young Audience Concert
DESCRIPTION:On Wednesday\, July 14 at 1pm\, Soprano Annie Leonardi and pianist Cara Chowning will present a FREE Young Audience Concert for children of all ages at the Criterion Theatre\, 35 Cottage St in Bar Harbor. This concert is made possible in part by a grant from the Onion Foundation and the Margaret E. Burnham Charitable Trust.
X-ALT-DESC;FMTTYPE=text/html:On Wednesday\, July 14 at 1pm\, Soprano Annie Leonardi and pianist Cara Chowning will present a FREE Young Audience Concert for children of all ages at the Criterion Theatre\, 35 Cottage St in Bar Harbor. This concert is made possible in part by a grant from the Onion Foundation and the Margaret E. Burnham Charitable Trust.&nbsp\;
LOCATION:1932 Criterion Theatre 35 Cottage St Bar Harbor\, Maine
UID:e.3061.37078
SEQUENCE:3
DTSTAMP:20260421T043104Z
URL:https://www.visitbarharbor.com/events/details/bar-harbor-music-festival-young-audience-concert-37078
END:VEVENT

END:VCALENDAR
