BEGIN:VCALENDAR
VERSION:2.0
PRODID:-//ChamberMaster//Event Calendar 2.0//EN
METHOD:PUBLISH
X-PUBLISHED-TTL:P3D
REFRESH-INTERVAL:P3D
CALSCALE:GREGORIAN
BEGIN:VEVENT
DTSTART:20210712T000000Z
DTEND:20210712T020000Z
X-MICROSOFT-CDO-ALLDAYEVENT:FALSE
SUMMARY:Bar Harbor Music Festival: “POPS” CONCERT
DESCRIPTION:ALICE ANNE LIGHT\, Mezzo-Soprano\n\nCARLOS ENRIQUE SANTELLI\, Tenor\n\nCARA CHOWNING\, Pianist\n\n\n\nOn Sunday\, July 11th\, the BHMF Vocal Program presents "Songs of Love and Hope\," a POPS concert in The Great Room of the Bluenose Inn\, at 90 Eden St.\, Bar Harbor. Joined by pianist Cara Chowning\, Mezzo-Soprano Alice Anne Light and Tenor David Sanchez team up to perform music from the American Songbook  (Richard Rogers\, Leonard Bernstein\, Jerome Kern\, and other Broadway greats) to inspire and comfort. Light and Sanchez will also be featured in the Festival's Opera production of Mozart's romantic comedy "Cosi Fan Tutte."
X-ALT-DESC;FMTTYPE=text/html:ALICE ANNE LIGHT\, Mezzo-Soprano<br />\nCARLOS ENRIQUE SANTELLI\, Tenor<br />\nCARA CHOWNING\, Pianist<br />\n<br />\nOn Sunday\, July 11th\, the BHMF Vocal Program presents &ldquo\;Songs of Love and Hope\,&rdquo\; a POPS concert in The Great Room of the Bluenose Inn\, at 90 Eden St.\, Bar Harbor. Joined by pianist Cara Chowning\, Mezzo-Soprano Alice Anne Light and Tenor David Sanchez team up to perform music from the American Songbook&nbsp\; (Richard Rogers\, Leonard Bernstein\, Jerome Kern\, and other Broadway greats) to inspire and comfort. Light and Sanchez will also be featured in the Festival&rsquo\;s Opera production of Mozart&rsquo\;s romantic comedy &ldquo\;Cosi Fan Tutte.&rdquo\;&nbsp\;
LOCATION:Bluenose Inn 90 Eden St. Bar Harbor\, ME
UID:e.3061.37075
SEQUENCE:3
DTSTAMP:20260421T075019Z
URL:https://www.visitbarharbor.com/events/details/bar-harbor-music-festival-pops-concert-37075
END:VEVENT

END:VCALENDAR
