BEGIN:VCALENDAR
VERSION:2.0
PRODID:-//ChamberMaster//Event Calendar 2.0//EN
METHOD:PUBLISH
X-PUBLISHED-TTL:P3D
REFRESH-INTERVAL:P3D
CALSCALE:GREGORIAN
BEGIN:VEVENT
DTSTART:20180704T000000Z
DTEND:20180704T020000Z
X-MICROSOFT-CDO-ALLDAYEVENT:FALSE
SUMMARY:Bar Harbor Music Festival: Opening Night Brass Venture
DESCRIPTION:OPENING NIGHT\n\nBRASS VENTURE\n\n(Sponsored by Bar Harbor Bank & Trust)\n\n\n\n"Individually they are expressive\, technically impressive performers\, and together they form an\n\nensemble which gives such exciting performances."   Eric Ewazen\, Composer-in-Residence at The Juilliard School
X-ALT-DESC;FMTTYPE=text/html:OPENING NIGHT<br />\nBRASS VENTURE<br />\n(Sponsored by Bar Harbor Bank &amp\; Trust)<br />\n<br />\n&ldquo\;Individually they are expressive\, technically impressive performers\, and together they form an<br />\nensemble which gives such exciting performances.&rdquo\; &ndash\; Eric Ewazen\, Composer-in-Residence at The Juilliard School
LOCATION:Bar Harbor Congregational Church\, 29 Mount Desert Street
UID:e.3061.2945
SEQUENCE:3
DTSTAMP:20260420T183310Z
URL:https://www.visitbarharbor.com/events/details/bar-harbor-music-festival-opening-night-brass-venture-2945
END:VEVENT

END:VCALENDAR
