BEGIN:VCALENDAR
VERSION:2.0
PRODID:-//ChamberMaster//Event Calendar 2.0//EN
METHOD:PUBLISH
X-PUBLISHED-TTL:P3D
REFRESH-INTERVAL:P3D
CALSCALE:GREGORIAN
BEGIN:VEVENT
DTSTART:20180701T200000Z
DTEND:20180701T220000Z
X-MICROSOFT-CDO-ALLDAYEVENT:FALSE
SUMMARY:Bar Harbor Music Festival: Opening Day Tea Concert
DESCRIPTION:OPENING DAY TEA CONCERT \n\nApril Martin\, Soprano\n\nCara Chowning\, Pianist\n\n\n\n"April Martin's performance was a standout\, sweet of phrasing and full of temperament."   The Cleveland Plain Dealer
X-ALT-DESC;FMTTYPE=text/html:OPENING DAY TEA CONCERT&nbsp\;<br />\nApril Martin\, Soprano<br />\nCara Chowning\, Pianist<br />\n<br />\n&ldquo\;April Martin&rsquo\;s performance was a standout\, sweet of phrasing and full of temperament.&rdquo\; &ndash\; The Cleveland Plain Dealer&nbsp\;
LOCATION:Maine Seacoast Mission\, 127 West Street\, Bar Harbor
UID:e.3061.2944
SEQUENCE:3
DTSTAMP:20260420T200532Z
URL:https://www.visitbarharbor.com/events/details/bar-harbor-music-festival-opening-day-tea-concert-2944
END:VEVENT

END:VCALENDAR
