BEGIN:VCALENDAR
VERSION:2.0
PRODID:-//ChamberMaster//Event Calendar 2.0//EN
METHOD:PUBLISH
X-PUBLISHED-TTL:P3D
REFRESH-INTERVAL:P3D
CALSCALE:GREGORIAN
BEGIN:VEVENT
DTSTART:20210710T000000Z
DTEND:20210710T020000Z
X-MICROSOFT-CDO-ALLDAYEVENT:FALSE
SUMMARY:Bar Harbor Music Festival: 37th Annual “NEW COMPOSERS” CONCERT
DESCRIPTION:SKIP LA PLANTE\, Composer\, Pianist\, Instrument Builder\n\nJESSIE COX\, Composer\, Drummer\, Scholar\n\n\n\nOn July 9th at 8PM\, world-famous avant-garde composer\, percussionist and instrument inventor Skip La Plante will perform his own music and a world premiere by Festival Featured Composer Jessie Kevin Cox. Vocalist Laurie Bennett will join Skip on a few numbers. The NY Times has called Skip La Plante the "Gershwin of garbage" and the "Tchaikovsky of trash" because he builds his instruments from found objects. La Plante will repeat his Bar Harbor performance on July 11th at 4pm in the Gammans Room at the Belfast Free Library\, 106 High St. in Belfast\, Maine. This concert is made possible in part by a grant from the Alice M. Ditson Fund of Columbia University.
X-ALT-DESC;FMTTYPE=text/html:SKIP LA PLANTE\, Composer\, Pianist\, Instrument Builder<br />\nJESSIE COX\, Composer\, Drummer\, Scholar<br />\n<br />\nOn July 9th at 8PM\, world-famous avant-garde composer\, percussionist and instrument inventor Skip La Plante will perform his own music and a world premiere by Festival Featured Composer Jessie Kevin Cox. Vocalist Laurie Bennett will join Skip on a few numbers. The NY Times has called Skip La Plante the &ldquo\;Gershwin of garbage&rdquo\; and the &ldquo\;Tchaikovsky of trash&rdquo\; because he builds his instruments from found objects. La Plante will repeat his Bar Harbor performance on July 11th at 4pm in the Gammans Room at the Belfast Free Library\, 106 High St. in Belfast\, Maine. This concert is made possible in part by a grant from the Alice M. Ditson Fund of Columbia University.&nbsp\;
LOCATION:1932 Criterion Theatre 35 Cottage Street Bar Harbor\, Maine
UID:e.3061.37074
SEQUENCE:3
DTSTAMP:20260421T061633Z
URL:https://www.visitbarharbor.com/events/details/bar-harbor-music-festival-37th-annual-new-composers-concert-37074
END:VEVENT

END:VCALENDAR
