BEGIN:VCALENDAR
VERSION:2.0
PRODID:-//ChamberMaster//Event Calendar 2.0//EN
METHOD:PUBLISH
X-PUBLISHED-TTL:P3D
REFRESH-INTERVAL:P3D
CALSCALE:GREGORIAN
BEGIN:VEVENT
DTSTART:20190912T000000Z
DTEND:20190912T020000Z
X-MICROSOFT-CDO-ALLDAYEVENT:FALSE
SUMMARY:Bar Harbor Ghost Tours
DESCRIPTION:Ranked #3 Ghost Tour in US by USA TODAY\n\nGet ready for an evening of fun\, ghost stories\, and Wabanaki Indian spirit tales as you explore the paranormal side of this beloved seaport village. Discover the untold history and personal stories behind the area's ghostly activity as you walk the winding paths of prehistoric curses and ancient specters.  Your historically dressed tour guide will escort you by blue lantern light through the shadows to the Old Burial Ground\, Waterfront\, and the most haunted mansion on Mount Desert Island\, plus much more. \n\nYou will:\n\n\n	\n	Hear tales no other tours will tell. \n	\n	\n	Listen to actual recorded evidence of a resident spirit.    \n	\n	\n	Go inside the haunted and decadent 1932 Art Deco Criterion Theatre (entrance to theatre depends on their live show schedule and there will be rare times when admittance will not be possible during the tour).  \n	\n\n\nAlthough we don't guarantee you will see a ghost you may be some of the lucky few to capture photographic images of orbs or apparitions in unexpected places.  Above all\, be prepared to sleep with the lights on and your windows closed when you go home.
X-ALT-DESC;FMTTYPE=text/html:<div style="background:#eee\;border:1px solid #ccc\;padding:5px 10px\;"><span style="color:#000000"><em><strong>Ranked #3 Ghost Tour in US by USA TODAY</strong></em></span></div>\n\n<p style="margin-left:0px\; margin-right:0px\; text-align:left">G<span style="background-color:transparent"><span style="background-color:transparent">et ready for an evening of fun\, ghost stories\, and&nbsp\;Wabanaki Indian spirit tales as you explore the paranormal side of this beloved seaport village.&nbsp\;Discover the untold history and personal stories behind the area&#39\;s ghostly activity as you walk the winding paths of prehistoric curses and ancient specters.&nbsp\; Your historically dressed tour guide will escort you by blue lantern light through the shadows to the Old Burial Ground\, Waterfront\, and the most haunted mansion on Mount Desert Island\, plus much more. </span></span></p>\n\n<p style="margin-left:0px\; margin-right:0px\; text-align:left">Y<span style="background-color:transparent\; font-size:16px"><span style="background-color:transparent\; font-family:libre baskerville\,serif">ou will:</span></span></p>\n\n<ul style="list-style-type:disc\; margin-left:8px\; margin-right:0px">\n	<li>\n	<p style="margin-left:0px\; margin-right:0px"><span style="background-color:transparent\; font-size:16px"><span style="background-color:transparent\; font-family:libre baskerville\,serif">Hear tales no other tours will tell.&nbsp\;</span></span></p>\n	</li>\n	<li>\n	<p style="margin-left:0px\; margin-right:0px"><span style="background-color:transparent\; font-family:libre baskerville\,serif">L</span><span style="background-color:transparent\; font-size:16px"><span style="background-color:transparent\; font-family:libre baskerville\,serif">isten to actual recorded evidence of a resident spirit. &nbsp\;&nbsp\; </span></span></p>\n	</li>\n	<li>\n	<p style="margin-left:0px\; margin-right:0px"><span style="background-color:transparent\; font-size:16px"><span style="background-color:transparent\; font-family:libre baskerville\,serif">Go inside the haunted&nbsp\;and decadent 1932 Art Deco Criterion Theatre (entrance to theatre depends on their live show schedule and there will be rare times when admittance will not be possible during the tour). &nbsp\;</span></span></p>\n	</li>\n</ul>\n\n<p style="margin-left:0px\; margin-right:0px\; text-align:left"><span style="background-color:transparent\; font-size:16px"><span style="background-color:transparent\; font-family:libre baskerville\,serif">Although we don&#39\;t guarantee you will see a ghost you may&nbsp\;be some of the lucky few to capture photographic images of orbs or apparitions in unexpected places.&nbsp\; Above all\, be prepared to sleep with the lights on and your windows closed when you go home.</span></span></p>\n
LOCATION:Tours depart from the Abbe Museum courtyard (26 Mount Desert Street) promptly at 8pm
UID:e.3061.8594
SEQUENCE:3
DTSTAMP:20260419T211339Z
URL:https://www.visitbarharbor.com/events/details/bar-harbor-ghost-tours-09-11-2019-8594
END:VEVENT

END:VCALENDAR
