BEGIN:VCALENDAR
VERSION:2.0
PRODID:-//ChamberMaster//Event Calendar 2.0//EN
METHOD:PUBLISH
X-PUBLISHED-TTL:P3D
REFRESH-INTERVAL:P3D
CALSCALE:GREGORIAN
BEGIN:VEVENT
DTSTART;VALUE=DATE:20180908
DTEND;VALUE=DATE:20180909
TRANSP:TRANSPARENT
X-MICROSOFT-CDO-ALLDAYEVENT:TRUE
SUMMARY:Bar Harbor Fine Arts Festival II
DESCRIPTION:The weekend after Labor Day\, the second show the Bar Harbor Fine Arts Festival at the Bar Harbor Inn featuring quality fine art and fine crafts from local\, national and international artists.
X-ALT-DESC;FMTTYPE=text/html:The weekend after Labor Day\, the second show the Bar Harbor Fine Arts Festival at the Bar Harbor Inn featuring quality fine art and fine crafts from local\, national and international artists.
LOCATION:Bar Harbor Inn\, Bar Harbor
UID:e.3061.2992
SEQUENCE:3
DTSTAMP:20260420T151437Z
URL:https://www.visitbarharbor.com/events/details/bar-harbor-fine-arts-festival-ii-09-08-2018-2992
END:VEVENT

END:VCALENDAR
