BEGIN:VCALENDAR
VERSION:2.0
PRODID:-//ChamberMaster//Event Calendar 2.0//EN
METHOD:PUBLISH
X-PUBLISHED-TTL:P3D
REFRESH-INTERVAL:P3D
CALSCALE:GREGORIAN
BEGIN:VEVENT
DTSTART;VALUE=DATE:20180803
DTEND;VALUE=DATE:20180804
TRANSP:TRANSPARENT
X-MICROSOFT-CDO-ALLDAYEVENT:TRUE
SUMMARY:Bar Harbor Fine Arts Festival 2018
DESCRIPTION:This annual fine arts and crafts show--now in it's 11th year-- is held on the grounds of Bar Harbor's premier shore-front luxury hotel\; The Bar Harbor Inn\, strategically located in the middle of town on the harbor waterfront. The show features a balance of mediums exhibited from local\, national and international artists..
X-ALT-DESC;FMTTYPE=text/html:This annual fine arts and crafts show--now in it&#39\;s 11th year-- is held on the grounds of Bar Harbor&#39\;s premier shore-front luxury hotel\; The Bar Harbor Inn\, strategically located in the middle of town on the harbor waterfront. The show features a balance of mediums exhibited from local\, national and international artists..
LOCATION:Bar Harbor Inn\, Bar Harbor
UID:e.3061.2975
SEQUENCE:3
DTSTAMP:20260420T170309Z
URL:https://www.visitbarharbor.com/events/details/bar-harbor-fine-arts-festival-2018-2975
END:VEVENT

END:VCALENDAR
