BEGIN:VCALENDAR
VERSION:2.0
PRODID:-//ChamberMaster//Event Calendar 2.0//EN
METHOD:PUBLISH
X-PUBLISHED-TTL:P3D
REFRESH-INTERVAL:P3D
CALSCALE:GREGORIAN
BEGIN:VEVENT
DTSTART:20181206T150000Z
DTEND:20181206T190000Z
X-MICROSOFT-CDO-ALLDAYEVENT:FALSE
SUMMARY:Bar Harbor Congregational Church Annual Fair
DESCRIPTION:The Bar Harbor Congregational Church Annual Christmas Fair\, Luncheon and Sale will be held on Thursday\, December 6 from 10:00 am   2:00 pm at 29 Mount Desert Street in Bar Harbor. This unique Fair has a lot to offer everyone!\n\n\n\nStart your holiday shopping and browse through the many unique items and attic treasures located in the church parlor. The raffle tables will be filled with gift certificates generously donated by local restaurants and businesses\, as well as artwork and fine hand crafts.\n\n\n\nLunch begins at 11:00 am and will feature savory Carrot-Squash Soup\, Minestrone\, New England Fish Chowder\, and Mighty Meaty and Vegetarian Chilis. Sandwiches include Three Cheese\, Roasted Chicken Salad and Egg Salad along with a Hummus Veggie Wrap. Gluten-free bread is an option. Top off your meal with a slice of homemade pie - there will be many varieties to choose from.\n\n\n\nThe Fair also features knitted\, crocheted and other handmade items\, an old-fashioned cheese wheel\, homemade candy\, cookies and baked goods. All areas of the church are wheelchair accessible.\n\n\n\nFor more information or to make a contribution\, contact the church office at 288-9951. Funds from this event will support programs and activities of the church.
X-ALT-DESC;FMTTYPE=text/html:The Bar Harbor Congregational Church Annual Christmas Fair\, Luncheon and Sale will be held on Thursday\, December 6 from 10:00 am &ndash\; 2:00 pm at 29 Mount Desert Street in Bar Harbor. This unique Fair has a lot to offer everyone!<br />\n<br />\nStart your holiday shopping and browse through the many unique items and attic treasures located in the church parlor. The raffle tables will be filled with gift certificates generously donated by local restaurants and businesses\, as well as artwork and fine hand crafts.<br />\n<br />\nLunch begins at 11:00 am and will feature savory Carrot-Squash Soup\, Minestrone\, New England Fish Chowder\, and Mighty Meaty and Vegetarian Chilis. Sandwiches include Three Cheese\, Roasted Chicken Salad and Egg Salad along with a Hummus Veggie Wrap. Gluten-free bread is an option. Top off your meal with a slice of homemade pie - there will be many varieties to choose from.<br />\n<br />\nThe Fair also features knitted\, crocheted and other handmade items\, an old-fashioned cheese wheel\, homemade candy\, cookies and baked goods. All areas of the church are wheelchair accessible.<br />\n<br />\nFor more information or to make a contribution\, contact the church office at 288-9951. Funds from this event will support programs and activities of the church.
LOCATION:29 Mount Desert Street\, Bar Harbor
UID:e.3061.4512
SEQUENCE:3
DTSTAMP:20260420T100530Z
URL:https://www.visitbarharbor.com/events/details/bar-harbor-congregational-church-annual-fair-4512
END:VEVENT

END:VCALENDAR
